Workbook
Name allSchoolList: OFFSET(學校查找!$A$1,1,0,COUNTA(學校查找!$A:$A)-1,1)
Name schoolList: OFFSET(學校查找!$J$1,1,0,MAX(學校查找!$H:$H),1)

Sheet 專業英日文校內賽報名表
A1: 學號 【註6】 | B1: 中文姓名 | C1: 英文名字 (羅馬拼音) | D1: 英文姓氏 (羅馬拼音) | E1: 身分證字號 (英文大寫 +末五碼) 【註4】 | F1: 學校 (於下列方框中輸入校名搜尋關鍵字)【註5】 | G1: 科系 | H1: 年級 | I1: 班級 | J1: 出生年月 (西元年/月) (yyyy/mm) 【註4】 | K1: 性別 | L1: 學校地址(含郵遞區號) | M1: 身份別 | N1: 競賽組別 | O1: 報考類科 | P1: 競賽級別 (專一到專三報考科目有專家級請報專家級) | Q1: 指導老師 (至多一位) | R1: 指導老師GLAD或其它核發國際認證-名稱 | S1: 指導老師GLAD或其它核發國際認證-編號 | T1: 指導老師專業英/日文國際監評編號 | U1: 參加過歷年校內競賽? (年度) | V1: 是否曾獲得全國賽前三名(年度) (註3) | W1: 全國賽參賽的科目 (請依競賽規範填寫) | X1: 是否曾獲得區賽或全國賽參賽資格 | Y1: 歷屆參賽科目 | Z1: 校內賽舉辦時間 (若貴校舉辦校內賽之日期不只一天請填寫最後辦理日) (格式請填:YYYY/MM/DD) | AA1: 學制 | AB1: 學校所在縣市 | AC1: 學校所在區域 | AD1: 備註: 若為外籍生請另外註明國籍 | AE1: 【註1】註冊帳號由大賽工作小組所提供。 【註2】請勿填入多餘空白字元(例如：學號、身分證號、密碼等文字之前後勿再輸入空白字元)並請再三檢視內容無誤，以免造成帳號無法使用。英文姓名註冊格式統一為：「英文名字(例如：Da Ming或Da-Ming)」+「英文姓氏(例如：Wang)」，例如：Da Ming Wang或Da-Ming Wang。 【註3】請注意:歷年曾獲各縣市菁英盃、專業英日文區域賽、全國賽或科學與科普專業英文區域賽、全國賽獎項者 (冠軍、亞軍、季軍、金腦獎) ,本屆請勿報名同組同類科*比賽! 【註4】身分證字號僅需填寫首字英文字母大寫及身分證後五碼即可，生日填寫年/月即可(格式限定文字) 【註5】為避免校名填寫不一致，造成後續推派晉級等檢核統計問題，本屆參賽學校校名將參考教育部網站資料為準，請先於下列方框中輸入校名搜尋關鍵字(例如：臺灣、大安)，第二列(含)以下的學校內容右側下拉清單將呈現相關校名可選擇。若發現校名有問題或查詢不到，請向本賽事工作小組反應調整。 【註6】報名資料填寫完畢，請按左上角(學號欄位標題最上方)的「check」鈕執行初步檢核，有疑慮的內容將以底色標示提醒留意修正。
A2: 41312111 | B2: 王小明 | C2: Xiao Ming | D2: Wang | E2: D55465 | F2: 國立虎尾科技大學 | G2: 光電工程系 | H2: 二 | I2: 甲 | J2: 2001/12 | K2: 男 | L2: 632雲林縣虎尾鎮文化路64號 | M2: 大學(專)院校組 | N2: 專業英文詞彙組 | O2: 商業與管理 | P2: 專業級 | Q2: X | R2: X | S2: X | T2: X | U2: X | V2: X | W2: X | X2: X | Y2: X | Z2: 45791 | AA2: 大學校院 | AB2: 雲林縣 | AC2: 虎尾鎮 | AD2: 無 | AE2: 範例
B8: *請再次確認身分證字號英文大寫加身分證末五碼是否正確

Sheet A表─各學制報名對照表
A1: 身份別 | B1: 辦理競賽組別（報考類科） | C1: 辦理競賽組別 | D1: （報考類科） | E1: 備註 | F1: 應考級別
A2: 國中組 | B2: 一般英文單字組(一般英文單字) | C2: 一般英文單字組 | D2: 一般英文單字 | E2: 限國中組 | F2: 2K(2000字)
A3: 國中組 | B3: 實用英文聽寫能力組(生活實用英文) | C3: 實用英文聽寫能力組 | D3: 生活實用英文 | E3: 限國中組 | F3: 僅基礎級
A4: 高中職組 | B4: 一般英文單字組(一般英文單字) | C4: 一般英文單字組 | D4: 一般英文單字 | E4: 限高職組 | F4: 4K(4000字)
A5: 高中職組 | B5: 一般英文單字組(一般英文單字) | C5: 一般英文單字組 | D5: 一般英文單字 | E5: 限高中及高職外語組 | F5: 6K(6000字)
A6: 高中職組 | B6: 專業英文詞彙組(醫護與健康照護) | C6: 專業英文詞彙組 | D6: 醫護與健康照護 | E6: 限高中職組、五專及大學一、二年級可報考 | F6: 僅基礎級
A7: 國中組、高中職組、大學(專)院校組 | B7: 英語文文法聽寫能力組(文法聽力) | C7: 英語文文法聽寫能力組 | D7: 文法聽力 | E7: 無限制組別 | F7: 專業級 / 基礎級
A8: 國中組、高中職組、大學(專)院校組 | B8: 專業英文詞彙組(生活與職場─職涯試探(綜合類)) | C8: 專業英文詞彙組 | D8: 生活與職場─職涯試探(綜合類) | E8: 無限制組別 | F8: 僅基礎級
A9: 高中職組、大學(專)院校組 | B9: 專業英文聽寫能力組(生活與職場應用) | C9: 專業英文聽寫能力組 | D9: 生活與職場應用 | E9: 限定高中職組、大學(專)院校組 | F9: 僅專業級
A10: 高中職組、大學(專)院校組 | B10: 日文單詞組(日文) | C10: 日文單詞組 | D10: 日文 | E10: 限定高中職組、大學(專)院校組 | F10: N5-N2
A11: 高中職組、大學(專)院校組 | B11: 專業英文詞彙組(觀光) | C11: 專業英文詞彙組 | D11: 觀光 | E11: 限定高中職組、大學(專)院校組 | F11: 專業級 / 專家級
A12: 高中職組、大學(專)院校組 | B12: 專業英文詞彙組(資訊(計算機)) | C12: 專業英文詞彙組 | D12: 資訊(計算機) | E12: 限定高中職組、大學(專)院校組 | F12: 專業級 / 專家級
... A33: 大學(專)院校組 | B33: 專業英文詞彙組(牙體技術) | C33: 專業英文詞彙組 | D33: 牙體技術 | E33: 限大學(專)院校組 | F33: 僅專業級

Sheet 各項報名參數對照
A1: 組別 | D1: 類科 | G1: 級別 | L1: 可供報名代號
A2: 國中組 | B2: A | D2: 一般英文單字組(一般英文單字) | E2: 01 | G2: 2K(2000字) | H2: 01 | L2: =VLOOKUP(M2,A:B,2,0)&VLOOKUP(N2,D:E,2,0)&VLOOKUP(O2,G:H,2,0) -> A0101 | M2: 國中組 | N2: 一般英文單字組(一般英文單字) | O2: 2K(2000字)
A3: 高中職組 | B3: B | D3: 實用英文聽寫能力組(生活實用英文) | E3: 02 | G3: 4K(4000字) | H3: 02 | L3: =VLOOKUP(M3,A:B,2,0)&VLOOKUP(N3,D:E,2,0)&VLOOKUP(O3,G:H,2,0) -> A0204 | M3: 國中組 | N3: 實用英文聽寫能力組(生活實用英文) | O3: 基礎級
A4: 高中及高職外語組 | B4: C | D4: 專業英文詞彙組(醫護與健康照護) | E4: 03 | G4: 6K(6000字) | H4: 03 | L4: =VLOOKUP(M4,A:B,2,0)&VLOOKUP(N4,D:E,2,0)&VLOOKUP(O4,G:H,2,0) -> B0102 | M4: 高中職組 | N4: 一般英文單字組(一般英文單字) | O4: 4K(4000字)
A5: 大學(專)院校組 | B5: D | D5: 英語文文法聽寫能力組(文法聽力) | E5: 04 | G5: 基礎級 | H5: 04 | L5: =VLOOKUP(M5,A:B,2,0)&VLOOKUP(N5,D:E,2,0)&VLOOKUP(O5,G:H,2,0) -> C0103 | M5: 高中及高職外語組 | N5: 一般英文單字組(一般英文單字) | O5: 6K(6000字)
D6: 專業英文詞彙組(生活與職場─職涯試探(綜合類)) | E6: 05 | G6: 專業級 | H6: 05 | L6: =VLOOKUP(M6,A:B,2,0)&VLOOKUP(N6,D:E,2,0)&VLOOKUP(O6,G:H,2,0) -> B0304 | M6: 高中職組 | N6: 專業英文詞彙組(醫護與健康照護) | O6: 基礎級
D7: 專業英文聽寫能力組(生活與職場應用) | E7: 06 | G7: 專家級 | H7: 06 | L7: =VLOOKUP(M7,A:B,2,0)&VLOOKUP(N7,D:E,2,0)&VLOOKUP(O7,G:H,2,0) -> A0404 | M7: 國中組 | N7: 英語文文法聽寫能力組(文法聽力) | O7: 基礎級
D8: 日文單詞組(日文) | E8: 07 | G8: N2 | H8: 07 | L8: =VLOOKUP(M8,A:B,2,0)&VLOOKUP(N8,D:E,2,0)&VLOOKUP(O8,G:H,2,0) -> B0404 | M8: 高中職組 | N8: 英語文文法聽寫能力組(文法聽力) | O8: 基礎級
D9: 專業英文詞彙組(觀光) | E9: 08 | G9: N3 | H9: 08 | L9: =VLOOKUP(M9,A:B,2,0)&VLOOKUP(N9,D:E,2,0)&VLOOKUP(O9,G:H,2,0) -> D0404 | M9: 大學(專)院校組 | N9: 英語文文法聽寫能力組(文法聽力) | O9: 基礎級
D10: 專業英文詞彙組(資訊(計算機)) | E10: 09 | G10: N4 | H10: 09 | L10: =VLOOKUP(M10,A:B,2,0)&VLOOKUP(N10,D:E,2,0)&VLOOKUP(O10,G:H,2,0) -> A0405 | M10: 國中組 | N10: 英語文文法聽寫能力組(文法聽力) | O10: 專業級
D11: 專業英文詞彙組(餐飲) | E11: 10 | G11: N5 | H11: 10 | L11: =VLOOKUP(M11,A:B,2,0)&VLOOKUP(N11,D:E,2,0)&VLOOKUP(O11,G:H,2,0) -> B0405 | M11: 高中職組 | N11: 英語文文法聽寫能力組(文法聽力) | O11: 專業級
D12: 專業英文詞彙組(商業與管理) | E12: 11 | L12: =VLOOKUP(M12,A:B,2,0)&VLOOKUP(N12,D:E,2,0)&VLOOKUP(O12,G:H,2,0) -> D0405 | M12: 大學(專)院校組 | N12: 英語文文法聽寫能力組(文法聽力) | O12: 專業級
D13: 專業英文詞彙組(電機與電子) | E13: 12 | L13: =VLOOKUP(M13,A:B,2,0)&VLOOKUP(N13,D:E,2,0)&VLOOKUP(O13,G:H,2,0) -> A0504 | M13: 國中組 | N13: 專業英文詞彙組(生活與職場─職涯試探(綜合類)) | O13: 基礎級
D14: 專業英文詞彙組(汽車工業) | E14: 13 | L14: =VLOOKUP(M14,A:B,2,0)&VLOOKUP(N14,D:E,2,0)&VLOOKUP(O14,G:H,2,0) -> B0504 | M14: 高中職組 | N14: 專業英文詞彙組(生活與職場─職涯試探(綜合類)) | O14: 基礎級
D15: 專業英文詞彙組(美容彩妝) | E15: 14 | L15: =VLOOKUP(M15,A:B,2,0)&VLOOKUP(N15,D:E,2,0)&VLOOKUP(O15,G:H,2,0) -> D0504 | M15: 大學(專)院校組 | N15: 專業英文詞彙組(生活與職場─職涯試探(綜合類)) | O15: 基礎級
D16: 專業英文詞彙組(教育) | E16: 15 | L16: =VLOOKUP(M16,A:B,2,0)&VLOOKUP(N16,D:E,2,0)&VLOOKUP(O16,G:H,2,0) -> B0605 | M16: 高中職組 | N16: 專業英文聽寫能力組(生活與職場應用) | O16: 專業級
D17: 專業英文詞彙組(數位多媒體設計) | E17: 16 | L17: =VLOOKUP(M17,A:B,2,0)&VLOOKUP(N17,D:E,2,0)&VLOOKUP(O17,G:H,2,0) -> B0707 | M17: 高中職組 | N17: 日文單詞組(日文) | O17: N2
D18: 專業英文詞彙組(機械工業) | E18: 17 | L18: =VLOOKUP(M18,A:B,2,0)&VLOOKUP(N18,D:E,2,0)&VLOOKUP(O18,G:H,2,0) -> B0708 | M18: 高中職組 | N18: 日文單詞組(日文) | O18: N3
D19: 專業英文詞彙組(人工智慧) | E19: 18 | L19: =VLOOKUP(M19,A:B,2,0)&VLOOKUP(N19,D:E,2,0)&VLOOKUP(O19,G:H,2,0) -> B0709 | M19: 高中職組 | N19: 日文單詞組(日文) | O19: N4
D20: 專業英文詞彙組(電競) | E20: 19 | L20: =VLOOKUP(M20,A:B,2,0)&VLOOKUP(N20,D:E,2,0)&VLOOKUP(O20,G:H,2,0) -> B0710 | M20: 高中職組 | N20: 日文單詞組(日文) | O20: N5
D21: 專業英文詞彙組(模具工業) | E21: 20 | L21: =VLOOKUP(M21,A:B,2,0)&VLOOKUP(N21,D:E,2,0)&VLOOKUP(O21,G:H,2,0) -> B0805 | M21: 高中職組 | N21: 專業英文詞彙組(觀光) | O21: 專業級
D22: 專業英文詞彙組(財務金融與會計) | E22: 21 | L22: =VLOOKUP(M22,A:B,2,0)&VLOOKUP(N22,D:E,2,0)&VLOOKUP(O22,G:H,2,0) -> B0905 | M22: 高中職組 | N22: 專業英文詞彙組(資訊(計算機)) | O22: 專業級
D23: 專業英文詞彙組(流行服飾) | E23: 22 | L23: =VLOOKUP(M23,A:B,2,0)&VLOOKUP(N23,D:E,2,0)&VLOOKUP(O23,G:H,2,0) -> B1005 | M23: 高中職組 | N23: 專業英文詞彙組(餐飲) | O23: 專業級
... D31: 專業英文詞彙組(牙體技術) | E31: 30 | L31: =VLOOKUP(M31,A:B,2,0)&VLOOKUP(N31,D:E,2,0)&VLOOKUP(O31,G:H,2,0) -> B1106 | M31: 高中職組 | N31: 專業英文詞彙組(商業與管理) | O31: 專家級
L32: =VLOOKUP(M32,A:B,2,0)&VLOOKUP(N32,D:E,2,0)&VLOOKUP(O32,G:H,2,0) -> B1206 | M32: 高中職組 | N32: 專業英文詞彙組(電機與電子) | O32: 專家級
L33: =VLOOKUP(M33,A:B,2,0)&VLOOKUP(N33,D:E,2,0)&VLOOKUP(O33,G:H,2,0) -> B1306 | M33: 高中職組 | N33: 專業英文詞彙組(汽車工業) | O33: 專家級
L34: =VLOOKUP(M34,A:B,2,0)&VLOOKUP(N34,D:E,2,0)&VLOOKUP(O34,G:H,2,0) -> B1406 | M34: 高中職組 | N34: 專業英文詞彙組(美容彩妝) | O34: 專家級
L35: =VLOOKUP(M35,A:B,2,0)&VLOOKUP(N35,D:E,2,0)&VLOOKUP(O35,G:H,2,0) -> B1505 | M35: 高中職組 | N35: 專業英文詞彙組(教育) | O35: 專業級
L36: =VLOOKUP(M36,A:B,2,0)&VLOOKUP(N36,D:E,2,0)&VLOOKUP(O36,G:H,2,0) -> B1606 | M36: 高中職組 | N36: 專業英文詞彙組(數位多媒體設計) | O36: 專家級
L37: =VLOOKUP(M37,A:B,2,0)&VLOOKUP(N37,D:E,2,0)&VLOOKUP(O37,G:H,2,0) -> B1706 | M37: 高中職組 | N37: 專業英文詞彙組(機械工業) | O37: 專家級
L38: =VLOOKUP(M38,A:B,2,0)&VLOOKUP(N38,D:E,2,0)&VLOOKUP(O38,G:H,2,0) -> B1806 | M38: 高中職組 | N38: 專業英文詞彙組(人工智慧) | O38: 專家級
L39: =VLOOKUP(M39,A:B,2,0)&VLOOKUP(N39,D:E,2,0)&VLOOKUP(O39,G:H,2,0) -> B1906 | M39: 高中職組 | N39: 專業英文詞彙組(電競) | O39: 專家級
L40: =VLOOKUP(M40,A:B,2,0)&VLOOKUP(N40,D:E,2,0)&VLOOKUP(O40,G:H,2,0) -> B1605 | M40: 高中職組 | N40: 專業英文詞彙組(數位多媒體設計) | O40: 專業級
L41: =VLOOKUP(M41,A:B,2,0)&VLOOKUP(N41,D:E,2,0)&VLOOKUP(O41,G:H,2,0) -> B1705 | M41: 高中職組 | N41: 專業英文詞彙組(機械工業) | O41: 專業級
L42: =VLOOKUP(M42,A:B,2,0)&VLOOKUP(N42,D:E,2,0)&VLOOKUP(O42,G:H,2,0) -> B1805 | M42: 高中職組 | N42: 專業英文詞彙組(人工智慧) | O42: 專業級
L43: =VLOOKUP(M43,A:B,2,0)&VLOOKUP(N43,D:E,2,0)&VLOOKUP(O43,G:H,2,0) -> B1905 | M43: 高中職組 | N43: 專業英文詞彙組(電競) | O43: 專業級
... L94: =VLOOKUP(M94,A:B,2,0)&VLOOKUP(N94,D:E,2,0)&VLOOKUP(O94,G:H,2,0) -> D0304 | M94: 大學(專)院校組 | N94: 專業英文詞彙組(醫護與健康照護) | O94: 基礎級

Sheet 總check
A1: 統計人數類科 | B1: 統計代號 | C1: 統計人數 | D1: 總人數
A2: =IF(各項報名參數對照!D2="","",各項報名參數對照!D2) -> 一般英文單字組(一般英文單字) | B2: =IF(A2="","",VLOOKUP(A2,各項報名參數對照!D:E,2,0)) -> 01 | C2: =IF(A2="","",COUNTIF(個別資料check!AF:AF,B2)) -> 0 | D2: =SUM(C:C) -> 1
A3: =IF(各項報名參數對照!D3="","",各項報名參數對照!D3) -> 實用英文聽寫能力組(生活實用英文) | B3: =IF(A3="","",VLOOKUP(A3,各項報名參數對照!D:E,2,0)) -> 02 | C3: =IF(A3="","",COUNTIF(個別資料check!AF:AF,B3)) -> 0
A4: =IF(各項報名參數對照!D4="","",各項報名參數對照!D4) -> 專業英文詞彙組(醫護與健康照護) | B4: =IF(A4="","",VLOOKUP(A4,各項報名參數對照!D:E,2,0)) -> 03 | C4: =IF(A4="","",COUNTIF(個別資料check!AF:AF,B4)) -> 0
A5: =IF(各項報名參數對照!D5="","",各項報名參數對照!D5) -> 英語文文法聽寫能力組(文法聽力) | B5: =IF(A5="","",VLOOKUP(A5,各項報名參數對照!D:E,2,0)) -> 04 | C5: =IF(A5="","",COUNTIF(個別資料check!AF:AF,B5)) -> 0
A6: =IF(各項報名參數對照!D6="","",各項報名參數對照!D6) -> 專業英文詞彙組(生活與職場─職涯試探(綜合類)) | B6: =IF(A6="","",VLOOKUP(A6,各項報名參數對照!D:E,2,0)) -> 05 | C6: =IF(A6="","",COUNTIF(個別資料check!AF:AF,B6)) -> 0
A7: =IF(各項報名參數對照!D7="","",各項報名參數對照!D7) -> 專業英文聽寫能力組(生活與職場應用) | B7: =IF(A7="","",VLOOKUP(A7,各項報名參數對照!D:E,2,0)) -> 06 | C7: =IF(A7="","",COUNTIF(個別資料check!AF:AF,B7)) -> 0
A8: =IF(各項報名參數對照!D8="","",各項報名參數對照!D8) -> 日文單詞組(日文) | B8: =IF(A8="","",VLOOKUP(A8,各項報名參數對照!D:E,2,0)) -> 07 | C8: =IF(A8="","",COUNTIF(個別資料check!AF:AF,B8)) -> 0
A9: =IF(各項報名參數對照!D9="","",各項報名參數對照!D9) -> 專業英文詞彙組(觀光) | B9: =IF(A9="","",VLOOKUP(A9,各項報名參數對照!D:E,2,0)) -> 08 | C9: =IF(A9="","",COUNTIF(個別資料check!AF:AF,B9)) -> 0
A10: =IF(各項報名參數對照!D10="","",各項報名參數對照!D10) -> 專業英文詞彙組(資訊(計算機)) | B10: =IF(A10="","",VLOOKUP(A10,各項報名參數對照!D:E,2,0)) -> 09 | C10: =IF(A10="","",COUNTIF(個別資料check!AF:AF,B10)) -> 0
A11: =IF(各項報名參數對照!D11="","",各項報名參數對照!D11) -> 專業英文詞彙組(餐飲) | B11: =IF(A11="","",VLOOKUP(A11,各項報名參數對照!D:E,2,0)) -> 10 | C11: =IF(A11="","",COUNTIF(個別資料check!AF:AF,B11)) -> 0
A12: =IF(各項報名參數對照!D12="","",各項報名參數對照!D12) -> 專業英文詞彙組(商業與管理) | B12: =IF(A12="","",VLOOKUP(A12,各項報名參數對照!D:E,2,0)) -> 11 | C12: =IF(A12="","",COUNTIF(個別資料check!AF:AF,B12)) -> 1
A13: =IF(各項報名參數對照!D13="","",各項報名參數對照!D13) -> 專業英文詞彙組(電機與電子) | B13: =IF(A13="","",VLOOKUP(A13,各項報名參數對照!D:E,2,0)) -> 12 | C13: =IF(A13="","",COUNTIF(個別資料check!AF:AF,B13)) -> 0
A14: =IF(各項報名參數對照!D14="","",各項報名參數對照!D14) -> 專業英文詞彙組(汽車工業) | B14: =IF(A14="","",VLOOKUP(A14,各項報名參數對照!D:E,2,0)) -> 13 | C14: =IF(A14="","",COUNTIF(個別資料check!AF:AF,B14)) -> 0
... A200: =IF(各項報名參數對照!D200="","",各項報名參數對照!D200) | B200: =IF(A200="","",VLOOKUP(A200,各項報名參數對照!D:E,2,0)) | C200: =IF(A200="","",COUNTIF(個別資料check!AF:AF,B200))

Sheet 個別資料check
A1: 學號 | B1: 中文姓名 | C1: 英文名字 (羅馬拼音) | D1: 英文姓氏 (羅馬拼音) | E1: 身分證字號 (英文大寫 +末五碼) 【註4】 | F1: 學校 | G1: 科系 | H1: 年級 | I1: 班級 | J1: 出生年月 (西元年/月) (yyyy/mm) 【註4】 | K1: 性別 | L1: 學校地址(含郵遞區號) | M1: 身份別 | N1: 競賽組別 | O1: 報考類科 | P1: 競賽級別 (專一到專三報考科目有專家級請報專家級) | Q1: 指導老師 (至多一位) | R1: 指導老師GLAD或其它核發國際認證-名稱 | S1: 指導老師GLAD或其它核發國際認證-編號 | T1: 指導老師專業英/日文國際監評編號 | U1: 參加過歷年校內競賽? (年度) | V1: 是否曾獲得全國賽前三名(年度) (註3) | W1: 全國賽參賽的科目 (請依競賽規範填寫) | X1: 是否曾獲得區賽或全國賽參賽資格 | Y1: 歷屆參賽科目 | Z1: 校內賽舉辦時間 (若貴校舉辦校內賽之日期不只一天請填寫最後辦理日) (格式請填:YYYY/MM/DD) | AA1: 學制 | AB1: 學校所在縣市 | AC1: 學校所在區域 | AD1: 備註: 若為外籍生請另外註明國籍 | AE1: 【註1】註冊帳號由大賽工作小組所提供。 【註2】請勿填入多餘空白字元(例如：學號、身分證號、密碼等文字之前後勿再輸入空白字元)並請再三檢視內容無誤，以免造成帳號無法使用。英文姓名註冊格式統一為：「英文名字(例如：Da Ming或Da-Ming)」+「英文姓氏(例如：Wang)」，例如：Da Ming Wang或Da-Ming Wang。 【註3】請注意:歷年曾獲各縣市菁英盃、專業英日文區域賽、全國賽或科學與科普專業英文區域賽、全國賽獎項者 (冠軍、亞軍、季軍、金腦獎) ,本屆請勿報名同組同類科*比賽! 【註4】身分證字號僅需填寫首字英文字母大寫及身分證後五碼即可，生日填寫年/月即可 | AF1: 人數統計
E2: =IF(專業英日文校內賽報名表!B2="","",NOT(OR(LENB(專業英日文校內賽報名表!E2)<>6,NOT(ISERROR(TEXT(RIGHT(專業英日文校內賽報名表!E2,6),"0")+1)),ISERROR(TEXT(RIGHT(專業英日文校內賽報名表!E2,5),"0")+1)))) -> TRUE | F2: =IF(專業英日文校內賽報名表!B2="","",NOT(ISERROR(MATCH(專業英日文校內賽報名表!F2,allSchoolList,0)))) -> TRUE | G2: =IF(專業英日文校內賽報名表!B2="","",NOT(ISERROR(HLOOKUP(專業英日文校內賽報名表!G2,OFFSET(校系設定!$A$1,MATCH(專業英日文校內賽報名表!F2,校系設定!$A:$A,0)-1,0,1,COUNTA(OFFSET(校系設定!$1:$1,MATCH(專業英日文校內賽報名表!F2,校系設定!$A:$A,0)-1,0))),1,0)))) -> TRUE | J2: =IF(專業英日文校內賽報名表!C2="","",NOT(OR(LEN(專業英日文校內賽報名表!J2)<>7,ISERROR(DATEVALUE(專業英日文校內賽報名表!J2&"/1")+FIND("/",專業英日文校內賽報名表!J2))))) -> TRUE | M2: =IF(專業英日文校內賽報名表!B2="","",VLOOKUP(專業英日文校內賽報名表!M2,各項報名參數對照!A:B,2,0)) -> D | N2: =IF(專業英日文校內賽報名表!B2="","",NOT(ISERROR(VLOOKUP(M2&O2&P2,各項報名參數對照!L:L,1,0)))) -> TRUE | O2: =IF(專業英日文校內賽報名表!B2="","",VLOOKUP(專業英日文校內賽報名表!N2&"("&專業英日文校內賽報名表!O2&")",各項報名參數對照!D:E,2,0)) -> 11 | P2: =IF(專業英日文校內賽報名表!B2="","",VLOOKUP(專業英日文校內賽報名表!P2,各項報名參數對照!G:H,2,0)) -> 05 | AF2: =O2 -> 11
E3: =IF(專業英日文校內賽報名表!B3="","",NOT(OR(LENB(專業英日文校內賽報名表!E3)<>6,NOT(ISERROR(TEXT(RIGHT(專業英日文校內賽報名表!E3,6),"0")+1)),ISERROR(TEXT(RIGHT(專業英日文校內賽報名表!E3,5),"0")+1)))) | F3: =IF(專業英日文校內賽報名表!B3="","",NOT(ISERROR(MATCH(專業英日文校內賽報名表!F3,allSchoolList,0)))) | G3: =IF(專業英日文校內賽報名表!B3="","",NOT(ISERROR(HLOOKUP(專業英日文校內賽報名表!G3,OFFSET(校系設定!$A$1,MATCH(專業英日文校內賽報名表!F3,校系設定!$A:$A,0)-1,0,1,COUNTA(OFFSET(校系設定!$1:$1,MATCH(專業英日文校內賽報名表!F3,校系設定!$A:$A,0)-1,0))),1,0)))) | J3: =IF(專業英日文校內賽報名表!C3="","",NOT(OR(LEN(專業英日文校內賽報名表!J3)<>7,ISERROR(DATEVALUE(專業英日文校內賽報名表!J3&"/1")+FIND("/",專業英日文校內賽報名表!J3))))) | M3: =IF(專業英日文校內賽報名表!B3="","",VLOOKUP(專業英日文校內賽報名表!M3,各項報名參數對照!A:B,2,0)) | N3: =IF(專業英日文校內賽報名表!B3="","",NOT(ISERROR(VLOOKUP(M3&O3&P3,各項報名參數對照!L:L,1,0)))) | O3: =IF(專業英日文校內賽報名表!B3="","",VLOOKUP(專業英日文校內賽報名表!N3&"("&專業英日文校內賽報名表!O3&")",各項報名參數對照!D:E,2,0)) | P3: =IF(專業英日文校內賽報名表!B3="","",VLOOKUP(專業英日文校內賽報名表!P3,各項報名參數對照!G:H,2,0)) | AF3: =O3
E4: =IF(專業英日文校內賽報名表!B4="","",NOT(OR(LENB(專業英日文校內賽報名表!E4)<>6,NOT(ISERROR(TEXT(RIGHT(專業英日文校內賽報名表!E4,6),"0")+1)),ISERROR(TEXT(RIGHT(專業英日文校內賽報名表!E4,5),"0")+1)))) | F4: =IF(專業英日文校內賽報名表!B4="","",NOT(ISERROR(MATCH(專業英日文校內賽報名表!F4,allSchoolList,0)))) | G4: =IF(專業英日文校內賽報名表!B4="","",NOT(ISERROR(HLOOKUP(專業英日文校內賽報名表!G4,OFFSET(校系設定!$A$1,MATCH(專業英日文校內賽報名表!F4,校系設定!$A:$A,0)-1,0,1,COUNTA(OFFSET(校系設定!$1:$1,MATCH(專業英日文校內賽報名表!F4,校系設定!$A:$A,0)-1,0))),1,0)))) | J4: =IF(專業英日文校內賽報名表!C4="","",NOT(OR(LEN(專業英日文校內賽報名表!J4)<>7,ISERROR(DATEVALUE(專業英日文校內賽報名表!J4&"/1")+FIND("/",專業英日文校內賽報名表!J4))))) | M4: =IF(專業英日文校內賽報名表!B4="","",VLOOKUP(專業英日文校內賽報名表!M4,各項報名參數對照!A:B,2,0)) | N4: =IF(專業英日文校內賽報名表!B4="","",NOT(ISERROR(VLOOKUP(M4&O4&P4,各項報名參數對照!L:L,1,0)))) | O4: =IF(專業英日文校內賽報名表!B4="","",VLOOKUP(專業英日文校內賽報名表!N4&"("&專業英日文校內賽報名表!O4&")",各項報名參數對照!D:E,2,0)) | P4: =IF(專業英日文校內賽報名表!B4="","",VLOOKUP(專業英日文校內賽報名表!P4,各項報名參數對照!G:H,2,0)) | AF4: =O4
E5: =IF(專業英日文校內賽報名表!B5="","",NOT(OR(LENB(專業英日文校內賽報名表!E5)<>6,NOT(ISERROR(TEXT(RIGHT(專業英日文校內賽報名表!E5,6),"0")+1)),ISERROR(TEXT(RIGHT(專業英日文校內賽報名表!E5,5),"0")+1)))) | F5: =IF(專業英日文校內賽報名表!B5="","",NOT(ISERROR(MATCH(專業英日文校內賽報名表!F5,allSchoolList,0)))) | G5: =IF(專業英日文校內賽報名表!B5="","",NOT(ISERROR(HLOOKUP(專業英日文校內賽報名表!G5,OFFSET(校系設定!$A$1,MATCH(專業英日文校內賽報名表!F5,校系設定!$A:$A,0)-1,0,1,COUNTA(OFFSET(校系設定!$1:$1,MATCH(專業英日文校內賽報名表!F5,校系設定!$A:$A,0)-1,0))),1,0)))) | J5: =IF(專業英日文校內賽報名表!C5="","",NOT(OR(LEN(專業英日文校內賽報名表!J5)<>7,ISERROR(DATEVALUE(專業英日文校內賽報名表!J5&"/1")+FIND("/",專業英日文校內賽報名表!J5))))) | M5: =IF(專業英日文校內賽報名表!B5="","",VLOOKUP(專業英日文校內賽報名表!M5,各項報名參數對照!A:B,2,0)) | N5: =IF(專業英日文校內賽報名表!B5="","",NOT(ISERROR(VLOOKUP(M5&O5&P5,各項報名參數對照!L:L,1,0)))) | O5: =IF(專業英日文校內賽報名表!B5="","",VLOOKUP(專業英日文校內賽報名表!N5&"("&專業英日文校內賽報名表!O5&")",各項報名參數對照!D:E,2,0)) | P5: =IF(專業英日文校內賽報名表!B5="","",VLOOKUP(專業英日文校內賽報名表!P5,各項報名參數對照!G:H,2,0)) | AF5: =O5
E6: =IF(專業英日文校內賽報名表!B6="","",NOT(OR(LENB(專業英日文校內賽報名表!E6)<>6,NOT(ISERROR(TEXT(RIGHT(專業英日文校內賽報名表!E6,6),"0")+1)),ISERROR(TEXT(RIGHT(專業英日文校內賽報名表!E6,5),"0")+1)))) | F6: =IF(專業英日文校內賽報名表!B6="","",NOT(ISERROR(MATCH(專業英日文校內賽報名表!F6,allSchoolList,0)))) | G6: =IF(專業英日文校內賽報名表!B6="","",NOT(ISERROR(HLOOKUP(專業英日文校內賽報名表!G6,OFFSET(校系設定!$A$1,MATCH(專業英日文校內賽報名表!F6,校系設定!$A:$A,0)-1,0,1,COUNTA(OFFSET(校系設定!$1:$1,MATCH(專業英日文校內賽報名表!F6,校系設定!$A:$A,0)-1,0))),1,0)))) | J6: =IF(專業英日文校內賽報名表!C6="","",NOT(OR(LEN(專業英日文校內賽報名表!J6)<>7,ISERROR(DATEVALUE(專業英日文校內賽報名表!J6&"/1")+FIND("/",專業英日文校內賽報名表!J6))))) | M6: =IF(專業英日文校內賽報名表!B6="","",VLOOKUP(專業英日文校內賽報名表!M6,各項報名參數對照!A:B,2,0)) | N6: =IF(專業英日文校內賽報名表!B6="","",NOT(ISERROR(VLOOKUP(M6&O6&P6,各項報名參數對照!L:L,1,0)))) | O6: =IF(專業英日文校內賽報名表!B6="","",VLOOKUP(專業英日文校內賽報名表!N6&"("&專業英日文校內賽報名表!O6&")",各項報名參數對照!D:E,2,0)) | P6: =IF(專業英日文校內賽報名表!B6="","",VLOOKUP(專業英日文校內賽報名表!P6,各項報名參數對照!G:H,2,0)) | AF6: =O6
B7: =TRIM(專業英日文校內賽報名表!B7) | C7: =TRIM(專業英日文校內賽報名表!C7) | D7: =TRIM(專業英日文校內賽報名表!D7) | E7: =IF(專業英日文校內賽報名表!B7="","",NOT(OR(LENB(專業英日文校內賽報名表!E7)<>6,NOT(ISERROR(TEXT(RIGHT(專業英日文校內賽報名表!E7,6),"0")+1)),ISERROR(TEXT(RIGHT(專業英日文校內賽報名表!E7,5),"0")+1)))) | F7: =IF(專業英日文校內賽報名表!B7="","",NOT(ISERROR(MATCH(專業英日文校內賽報名表!F7,allSchoolList,0)))) | G7: =IF(專業英日文校內賽報名表!B7="","",NOT(ISERROR(HLOOKUP(專業英日文校內賽報名表!G7,OFFSET(校系設定!$A$1,MATCH(專業英日文校內賽報名表!F7,校系設定!$A:$A,0)-1,0,1,COUNTA(OFFSET(校系設定!$1:$1,MATCH(專業英日文校內賽報名表!F7,校系設定!$A:$A,0)-1,0))),1,0)))) | J7: =IF(專業英日文校內賽報名表!C7="","",NOT(OR(LEN(專業英日文校內賽報名表!J7)<>7,ISERROR(DATEVALUE(專業英日文校內賽報名表!J7&"/1")+FIND("/",專業英日文校內賽報名表!J7))))) | M7: =IF(專業英日文校內賽報名表!B7="","",VLOOKUP(專業英日文校內賽報名表!M7,各項報名參數對照!A:B,2,0)) | N7: =IF(專業英日文校內賽報名表!B7="","",NOT(ISERROR(VLOOKUP(M7&O7&P7,各項報名參數對照!L:L,1,0)))) | O7: =IF(專業英日文校內賽報名表!B7="","",VLOOKUP(專業英日文校內賽報名表!N7&"("&專業英日文校內賽報名表!O7&")",各項報名參數對照!D:E,2,0)) | P7: =IF(專業英日文校內賽報名表!B7="","",VLOOKUP(專業英日文校內賽報名表!P7,各項報名參數對照!G:H,2,0)) | AF7: =O7
B8: =TRIM(專業英日文校內賽報名表!#REF!) -> #REF! | C8: =TRIM(專業英日文校內賽報名表!#REF!) -> #REF! | D8: =TRIM(專業英日文校內賽報名表!C8) | E8: =IF(專業英日文校內賽報名表!#REF!="","",NOT(OR(LENB(專業英日文校內賽報名表!D8)<>6,NOT(ISERROR(TEXT(RIGHT(專業英日文校內賽報名表!D8,6),"0")+1)),ISERROR(TEXT(RIGHT(專業英日文校內賽報名表!D8,5),"0")+1)))) -> #REF! | F8: =IF(專業英日文校內賽報名表!#REF!="","",NOT(ISERROR(MATCH(專業英日文校內賽報名表!E8,allSchoolList,0)))) -> #REF! | G8: =IF(專業英日文校內賽報名表!#REF!="","",NOT(ISERROR(HLOOKUP(專業英日文校內賽報名表!F8,OFFSET(校系設定!$A$1,MATCH(專業英日文校內賽報名表!E8,校系設定!$A:$A,0)-1,0,1,COUNTA(OFFSET(校系設定!$1:$1,MATCH(專業英日文校內賽報名表!E8,校系設定!$A:$A,0)-1,0))),1,0)))) -> #REF! | J8: =IF(專業英日文校內賽報名表!#REF!="","",NOT(OR(LEN(專業英日文校內賽報名表!J8)<>7,ISERROR(DATEVALUE(專業英日文校內賽報名表!J8&"/1")+FIND("/",專業英日文校內賽報名表!J8))))) -> #REF! | M8: =IF(專業英日文校內賽報名表!#REF!="","",VLOOKUP(專業英日文校內賽報名表!M8,各項報名參數對照!A:B,2,0)) -> #REF! | N8: =IF(專業英日文校內賽報名表!#REF!="","",NOT(ISERROR(VLOOKUP(M8&O8&P8,各項報名參數對照!L:L,1,0)))) -> #REF! | O8: =IF(專業英日文校內賽報名表!#REF!="","",VLOOKUP(專業英日文校內賽報名表!N8&"("&專業英日文校內賽報名表!O8&")",各項報名參數對照!D:E,2,0)) -> #REF! | P8: =IF(專業英日文校內賽報名表!#REF!="","",VLOOKUP(專業英日文校內賽報名表!P8,各項報名參數對照!G:H,2,0)) -> #REF! | AF8: =O8 -> #REF!
B9: =TRIM(專業英日文校內賽報名表!B9) | C9: =TRIM(專業英日文校內賽報名表!C9) | D9: =TRIM(專業英日文校內賽報名表!D9) | E9: =IF(專業英日文校內賽報名表!B9="","",NOT(OR(LENB(專業英日文校內賽報名表!E9)<>6,NOT(ISERROR(TEXT(RIGHT(專業英日文校內賽報名表!E9,6),"0")+1)),ISERROR(TEXT(RIGHT(專業英日文校內賽報名表!E9,5),"0")+1)))) | F9: =IF(專業英日文校內賽報名表!B9="","",NOT(ISERROR(MATCH(專業英日文校內賽報名表!F9,allSchoolList,0)))) | G9: =IF(專業英日文校內賽報名表!B9="","",NOT(ISERROR(HLOOKUP(專業英日文校內賽報名表!G9,OFFSET(校系設定!$A$1,MATCH(專業英日文校內賽報名表!F9,校系設定!$A:$A,0)-1,0,1,COUNTA(OFFSET(校系設定!$1:$1,MATCH(專業英日文校內賽報名表!F9,校系設定!$A:$A,0)-1,0))),1,0)))) | J9: =IF(專業英日文校內賽報名表!C9="","",NOT(OR(LEN(專業英日文校內賽報名表!J9)<>7,ISERROR(DATEVALUE(專業英日文校內賽報名表!J9&"/1")+FIND("/",專業英日文校內賽報名表!J9))))) | M9: =IF(專業英日文校內賽報名表!B9="","",VLOOKUP(專業英日文校內賽報名表!M9,各項報名參數對照!A:B,2,0)) | N9: =IF(專業英日文校內賽報名表!B9="","",NOT(ISERROR(VLOOKUP(M9&O9&P9,各項報名參數對照!L:L,1,0)))) | O9: =IF(專業英日文校內賽報名表!B9="","",VLOOKUP(專業英日文校內賽報名表!N9&"("&專業英日文校內賽報名表!O9&")",各項報名參數對照!D:E,2,0)) | P9: =IF(專業英日文校內賽報名表!B9="","",VLOOKUP(專業英日文校內賽報名表!P9,各項報名參數對照!G:H,2,0)) | AF9: =O9
B10: =TRIM(專業英日文校內賽報名表!B10) | C10: =TRIM(專業英日文校內賽報名表!C10) | D10: =TRIM(專業英日文校內賽報名表!D10) | E10: =IF(專業英日文校內賽報名表!B10="","",NOT(OR(LENB(專業英日文校內賽報名表!E10)<>6,NOT(ISERROR(TEXT(RIGHT(專業英日文校內賽報名表!E10,6),"0")+1)),ISERROR(TEXT(RIGHT(專業英日文校內賽報名表!E10,5),"0")+1)))) | F10: =IF(專業英日文校內賽報名表!B10="","",NOT(ISERROR(MATCH(專業英日文校內賽報名表!F10,allSchoolList,0)))) | G10: =IF(專業英日文校內賽報名表!B10="","",NOT(ISERROR(HLOOKUP(專業英日文校內賽報名表!G10,OFFSET(校系設定!$A$1,MATCH(專業英日文校內賽報名表!F10,校系設定!$A:$A,0)-1,0,1,COUNTA(OFFSET(校系設定!$1:$1,MATCH(專業英日文校內賽報名表!F10,校系設定!$A:$A,0)-1,0))),1,0)))) | J10: =IF(專業英日文校內賽報名表!C10="","",NOT(OR(LEN(專業英日文校內賽報名表!J10)<>7,ISERROR(DATEVALUE(專業英日文校內賽報名表!J10&"/1")+FIND("/",專業英日文校內賽報名表!J10))))) | M10: =IF(專業英日文校內賽報名表!B10="","",VLOOKUP(專業英日文校內賽報名表!M10,各項報名參數對照!A:B,2,0)) | N10: =IF(專業英日文校內賽報名表!B10="","",NOT(ISERROR(VLOOKUP(M10&O10&P10,各項報名參數對照!L:L,1,0)))) | O10: =IF(專業英日文校內賽報名表!B10="","",VLOOKUP(專業英日文校內賽報名表!N10&"("&專業英日文校內賽報名表!O10&")",各項報名參數對照!D:E,2,0)) | P10: =IF(專業英日文校內賽報名表!B10="","",VLOOKUP(專業英日文校內賽報名表!P10,各項報名參數對照!G:H,2,0)) | AF10: =O10
B11: =TRIM(專業英日文校內賽報名表!B11) | C11: =TRIM(專業英日文校內賽報名表!C11) | D11: =TRIM(專業英日文校內賽報名表!D11) | E11: =IF(專業英日文校內賽報名表!B11="","",NOT(OR(LENB(專業英日文校內賽報名表!E11)<>6,NOT(ISERROR(TEXT(RIGHT(專業英日文校內賽報名表!E11,6),"0")+1)),ISERROR(TEXT(RIGHT(專業英日文校內賽報名表!E11,5),"0")+1)))) | F11: =IF(專業英日文校內賽報名表!B11="","",NOT(ISERROR(MATCH(專業英日文校內賽報名表!F11,allSchoolList,0)))) | G11: =IF(專業英日文校內賽報名表!B11="","",NOT(ISERROR(HLOOKUP(專業英日文校內賽報名表!G11,OFFSET(校系設定!$A$1,MATCH(專業英日文校內賽報名表!F11,校系設定!$A:$A,0)-1,0,1,COUNTA(OFFSET(校系設定!$1:$1,MATCH(專業英日文校內賽報名表!F11,校系設定!$A:$A,0)-1,0))),1,0)))) | J11: =IF(專業英日文校內賽報名表!C11="","",NOT(OR(LEN(專業英日文校內賽報名表!J11)<>7,ISERROR(DATEVALUE(專業英日文校內賽報名表!J11&"/1")+FIND("/",專業英日文校內賽報名表!J11))))) | M11: =IF(專業英日文校內賽報名表!B11="","",VLOOKUP(專業英日文校內賽報名表!M11,各項報名參數對照!A:B,2,0)) | N11: =IF(專業英日文校內賽報名表!B11="","",NOT(ISERROR(VLOOKUP(M11&O11&P11,各項報名參數對照!L:L,1,0)))) | O11: =IF(專業英日文校內賽報名表!B11="","",VLOOKUP(專業英日文校內賽報名表!N11&"("&專業英日文校內賽報名表!O11&")",各項報名參數對照!D:E,2,0)) | P11: =IF(專業英日文校內賽報名表!B11="","",VLOOKUP(專業英日文校內賽報名表!P11,各項報名參數對照!G:H,2,0)) | AF11: =O11
B12: =TRIM(專業英日文校內賽報名表!B12) | C12: =TRIM(專業英日文校內賽報名表!C12) | D12: =TRIM(專業英日文校內賽報名表!D12) | E12: =IF(專業英日文校內賽報名表!B12="","",NOT(OR(LENB(專業英日文校內賽報名表!E12)<>6,NOT(ISERROR(TEXT(RIGHT(專業英日文校內賽報名表!E12,6),"0")+1)),ISERROR(TEXT(RIGHT(專業英日文校內賽報名表!E12,5),"0")+1)))) | F12: =IF(專業英日文校內賽報名表!B12="","",NOT(ISERROR(MATCH(專業英日文校內賽報名表!F12,allSchoolList,0)))) | G12: =IF(專業英日文校內賽報名表!B12="","",NOT(ISERROR(HLOOKUP(專業英日文校內賽報名表!G12,OFFSET(校系設定!$A$1,MATCH(專業英日文校內賽報名表!F12,校系設定!$A:$A,0)-1,0,1,COUNTA(OFFSET(校系設定!$1:$1,MATCH(專業英日文校內賽報名表!F12,校系設定!$A:$A,0)-1,0))),1,0)))) | J12: =IF(專業英日文校內賽報名表!C12="","",NOT(OR(LEN(專業英日文校內賽報名表!J12)<>7,ISERROR(DATEVALUE(專業英日文校內賽報名表!J12&"/1")+FIND("/",專業英日文校內賽報名表!J12))))) | M12: =IF(專業英日文校內賽報名表!B12="","",VLOOKUP(專業英日文校內賽報名表!M12,各項報名參數對照!A:B,2,0)) | N12: =IF(專業英日文校內賽報名表!B12="","",NOT(ISERROR(VLOOKUP(M12&O12&P12,各項報名參數對照!L:L,1,0)))) | O12: =IF(專業英日文校內賽報名表!B12="","",VLOOKUP(專業英日文校內賽報名表!N12&"("&專業英日文校內賽報名表!O12&")",各項報名參數對照!D:E,2,0)) | P12: =IF(專業英日文校內賽報名表!B12="","",VLOOKUP(專業英日文校內賽報名表!P12,各項報名參數對照!G:H,2,0)) | AF12: =O12
B13: =TRIM(專業英日文校內賽報名表!B13) | C13: =TRIM(專業英日文校內賽報名表!C13) | D13: =TRIM(專業英日文校內賽報名表!D13) | E13: =IF(專業英日文校內賽報名表!B13="","",NOT(OR(LENB(專業英日文校內賽報名表!E13)<>6,NOT(ISERROR(TEXT(RIGHT(專業英日文校內賽報名表!E13,6),"0")+1)),ISERROR(TEXT(RIGHT(專業英日文校內賽報名表!E13,5),"0")+1)))) | F13: =IF(專業英日文校內賽報名表!B13="","",NOT(ISERROR(MATCH(專業英日文校內賽報名表!F13,allSchoolList,0)))) | G13: =IF(專業英日文校內賽報名表!B13="","",NOT(ISERROR(HLOOKUP(專業英日文校內賽報名表!G13,OFFSET(校系設定!$A$1,MATCH(專業英日文校內賽報名表!F13,校系設定!$A:$A,0)-1,0,1,COUNTA(OFFSET(校系設定!$1:$1,MATCH(專業英日文校內賽報名表!F13,校系設定!$A:$A,0)-1,0))),1,0)))) | J13: =IF(專業英日文校內賽報名表!C13="","",NOT(OR(LEN(專業英日文校內賽報名表!J13)<>7,ISERROR(DATEVALUE(專業英日文校內賽報名表!J13&"/1")+FIND("/",專業英日文校內賽報名表!J13))))) | M13: =IF(專業英日文校內賽報名表!B13="","",VLOOKUP(專業英日文校內賽報名表!M13,各項報名參數對照!A:B,2,0)) | N13: =IF(專業英日文校內賽報名表!B13="","",NOT(ISERROR(VLOOKUP(M13&O13&P13,各項報名參數對照!L:L,1,0)))) | O13: =IF(專業英日文校內賽報名表!B13="","",VLOOKUP(專業英日文校內賽報名表!N13&"("&專業英日文校內賽報名表!O13&")",各項報名參數對照!D:E,2,0)) | P13: =IF(專業英日文校內賽報名表!B13="","",VLOOKUP(專業英日文校內賽報名表!P13,各項報名參數對照!G:H,2,0)) | AF13: =O13
B14: =TRIM(專業英日文校內賽報名表!B14) | C14: =TRIM(專業英日文校內賽報名表!C14) | D14: =TRIM(專業英日文校內賽報名表!D14) | E14: =IF(專業英日文校內賽報名表!B14="","",NOT(OR(LENB(專業英日文校內賽報名表!E14)<>6,NOT(ISERROR(TEXT(RIGHT(專業英日文校內賽報名表!E14,6),"0")+1)),ISERROR(TEXT(RIGHT(專業英日文校內賽報名表!E14,5),"0")+1)))) | F14: =IF(專業英日文校內賽報名表!B14="","",NOT(ISERROR(MATCH(專業英日文校內賽報名表!F14,allSchoolList,0)))) | G14: =IF(專業英日文校內賽報名表!B14="","",NOT(ISERROR(HLOOKUP(專業英日文校內賽報名表!G14,OFFSET(校系設定!$A$1,MATCH(專業英日文校內賽報名表!F14,校系設定!$A:$A,0)-1,0,1,COUNTA(OFFSET(校系設定!$1:$1,MATCH(專業英日文校內賽報名表!F14,校系設定!$A:$A,0)-1,0))),1,0)))) | J14: =IF(專業英日文校內賽報名表!C14="","",NOT(OR(LEN(專業英日文校內賽報名表!J14)<>7,ISERROR(DATEVALUE(專業英日文校內賽報名表!J14&"/1")+FIND("/",專業英日文校內賽報名表!J14))))) | M14: =IF(專業英日文校內賽報名表!B14="","",VLOOKUP(專業英日文校內賽報名表!M14,各項報名參數對照!A:B,2,0)) | N14: =IF(專業英日文校內賽報名表!B14="","",NOT(ISERROR(VLOOKUP(M14&O14&P14,各項報名參數對照!L:L,1,0)))) | O14: =IF(專業英日文校內賽報名表!B14="","",VLOOKUP(專業英日文校內賽報名表!N14&"("&專業英日文校內賽報名表!O14&")",各項報名參數對照!D:E,2,0)) | P14: =IF(專業英日文校內賽報名表!B14="","",VLOOKUP(專業英日文校內賽報名表!P14,各項報名參數對照!G:H,2,0)) | AF14: =O14
B15: =TRIM(專業英日文校內賽報名表!B15) | C15: =TRIM(專業英日文校內賽報名表!C15) | D15: =TRIM(專業英日文校內賽報名表!D15) | E15: =IF(專業英日文校內賽報名表!B15="","",NOT(OR(LENB(專業英日文校內賽報名表!E15)<>6,NOT(ISERROR(TEXT(RIGHT(專業英日文校內賽報名表!E15,6),"0")+1)),ISERROR(TEXT(RIGHT(專業英日文校內賽報名表!E15,5),"0")+1)))) | F15: =IF(專業英日文校內賽報名表!B15="","",NOT(ISERROR(MATCH(專業英日文校內賽報名表!F15,allSchoolList,0)))) | G15: =IF(專業英日文校內賽報名表!B15="","",NOT(ISERROR(HLOOKUP(專業英日文校內賽報名表!G15,OFFSET(校系設定!$A$1,MATCH(專業英日文校內賽報名表!F15,校系設定!$A:$A,0)-1,0,1,COUNTA(OFFSET(校系設定!$1:$1,MATCH(專業英日文校內賽報名表!F15,校系設定!$A:$A,0)-1,0))),1,0)))) | J15: =IF(專業英日文校內賽報名表!C15="","",NOT(OR(LEN(專業英日文校內賽報名表!J15)<>7,ISERROR(DATEVALUE(專業英日文校內賽報名表!J15&"/1")+FIND("/",專業英日文校內賽報名表!J15))))) | M15: =IF(專業英日文校內賽報名表!B15="","",VLOOKUP(專業英日文校內賽報名表!M15,各項報名參數對照!A:B,2,0)) | N15: =IF(專業英日文校內賽報名表!B15="","",NOT(ISERROR(VLOOKUP(M15&O15&P15,各項報名參數對照!L:L,1,0)))) | O15: =IF(專業英日文校內賽報名表!B15="","",VLOOKUP(專業英日文校內賽報名表!N15&"("&專業英日文校內賽報名表!O15&")",各項報名參數對照!D:E,2,0)) | P15: =IF(專業英日文校內賽報名表!B15="","",VLOOKUP(專業英日文校內賽報名表!P15,各項報名參數對照!G:H,2,0)) | AF15: =O15
E16: =IF(專業英日文校內賽報名表!B16="","",NOT(OR(LENB(專業英日文校內賽報名表!E16)<>6,NOT(ISERROR(TEXT(RIGHT(專業英日文校內賽報名表!E16,6),"0")+1)),ISERROR(TEXT(RIGHT(專業英日文校內賽報名表!E16,5),"0")+1)))) | F16: =IF(專業英日文校內賽報名表!B16="","",NOT(ISERROR(MATCH(專業英日文校內賽報名表!F16,allSchoolList,0)))) | G16: =IF(專業英日文校內賽報名表!B16="","",NOT(ISERROR(HLOOKUP(專業英日文校內賽報名表!G16,OFFSET(校系設定!$A$1,MATCH(專業英日文校內賽報名表!F16,校系設定!$A:$A,0)-1,0,1,COUNTA(OFFSET(校系設定!$1:$1,MATCH(專業英日文校內賽報名表!F16,校系設定!$A:$A,0)-1,0))),1,0)))) | J16: =IF(專業英日文校內賽報名表!C16="","",NOT(OR(LEN(專業英日文校內賽報名表!J16)<>7,ISERROR(DATEVALUE(專業英日文校內賽報名表!J16&"/1")+FIND("/",專業英日文校內賽報名表!J16))))) | M16: =IF(專業英日文校內賽報名表!B16="","",VLOOKUP(專業英日文校內賽報名表!M16,各項報名參數對照!A:B,2,0)) | N16: =IF(專業英日文校內賽報名表!B16="","",NOT(ISERROR(VLOOKUP(M16&O16&P16,各項報名參數對照!L:L,1,0)))) | O16: =IF(專業英日文校內賽報名表!B16="","",VLOOKUP(專業英日文校內賽報名表!N16&"("&專業英日文校內賽報名表!O16&")",各項報名參數對照!D:E,2,0)) | P16: =IF(專業英日文校內賽報名表!B16="","",VLOOKUP(專業英日文校內賽報名表!P16,各項報名參數對照!G:H,2,0)) | AF16: =O16
E17: =IF(專業英日文校內賽報名表!B17="","",NOT(OR(LENB(專業英日文校內賽報名表!E17)<>6,NOT(ISERROR(TEXT(RIGHT(專業英日文校內賽報名表!E17,6),"0")+1)),ISERROR(TEXT(RIGHT(專業英日文校內賽報名表!E17,5),"0")+1)))) | F17: =IF(專業英日文校內賽報名表!B17="","",NOT(ISERROR(MATCH(專業英日文校內賽報名表!F17,allSchoolList,0)))) | G17: =IF(專業英日文校內賽報名表!B17="","",NOT(ISERROR(HLOOKUP(專業英日文校內賽報名表!G17,OFFSET(校系設定!$A$1,MATCH(專業英日文校內賽報名表!F17,校系設定!$A:$A,0)-1,0,1,COUNTA(OFFSET(校系設定!$1:$1,MATCH(專業英日文校內賽報名表!F17,校系設定!$A:$A,0)-1,0))),1,0)))) | J17: =IF(專業英日文校內賽報名表!C17="","",NOT(OR(LEN(專業英日文校內賽報名表!J17)<>7,ISERROR(DATEVALUE(專業英日文校內賽報名表!J17&"/1")+FIND("/",專業英日文校內賽報名表!J17))))) | M17: =IF(專業英日文校內賽報名表!B17="","",VLOOKUP(專業英日文校內賽報名表!M17,各項報名參數對照!A:B,2,0)) | N17: =IF(專業英日文校內賽報名表!B17="","",NOT(ISERROR(VLOOKUP(M17&O17&P17,各項報名參數對照!L:L,1,0)))) | O17: =IF(專業英日文校內賽報名表!B17="","",VLOOKUP(專業英日文校內賽報名表!N17&"("&專業英日文校內賽報名表!O17&")",各項報名參數對照!D:E,2,0)) | P17: =IF(專業英日文校內賽報名表!B17="","",VLOOKUP(專業英日文校內賽報名表!P17,各項報名參數對照!G:H,2,0)) | AF17: =O17
E18: =IF(專業英日文校內賽報名表!B18="","",NOT(OR(LENB(專業英日文校內賽報名表!E18)<>6,NOT(ISERROR(TEXT(RIGHT(專業英日文校內賽報名表!E18,6),"0")+1)),ISERROR(TEXT(RIGHT(專業英日文校內賽報名表!E18,5),"0")+1)))) | F18: =IF(專業英日文校內賽報名表!B18="","",NOT(ISERROR(MATCH(專業英日文校內賽報名表!F18,allSchoolList,0)))) | G18: =IF(專業英日文校內賽報名表!B18="","",NOT(ISERROR(HLOOKUP(專業英日文校內賽報名表!G18,OFFSET(校系設定!$A$1,MATCH(專業英日文校內賽報名表!F18,校系設定!$A:$A,0)-1,0,1,COUNTA(OFFSET(校系設定!$1:$1,MATCH(專業英日文校內賽報名表!F18,校系設定!$A:$A,0)-1,0))),1,0)))) | J18: =IF(專業英日文校內賽報名表!C18="","",NOT(OR(LEN(專業英日文校內賽報名表!J18)<>7,ISERROR(DATEVALUE(專業英日文校內賽報名表!J18&"/1")+FIND("/",專業英日文校內賽報名表!J18))))) | M18: =IF(專業英日文校內賽報名表!B18="","",VLOOKUP(專業英日文校內賽報名表!M18,各項報名參數對照!A:B,2,0)) | N18: =IF(專業英日文校內賽報名表!B18="","",NOT(ISERROR(VLOOKUP(M18&O18&P18,各項報名參數對照!L:L,1,0)))) | O18: =IF(專業英日文校內賽報名表!B18="","",VLOOKUP(專業英日文校內賽報名表!N18&"("&專業英日文校內賽報名表!O18&")",各項報名參數對照!D:E,2,0)) | P18: =IF(專業英日文校內賽報名表!B18="","",VLOOKUP(專業英日文校內賽報名表!P18,各項報名參數對照!G:H,2,0)) | AF18: =O18
E19: =IF(專業英日文校內賽報名表!B19="","",NOT(OR(LENB(專業英日文校內賽報名表!E19)<>6,NOT(ISERROR(TEXT(RIGHT(專業英日文校內賽報名表!E19,6),"0")+1)),ISERROR(TEXT(RIGHT(專業英日文校內賽報名表!E19,5),"0")+1)))) | F19: =IF(專業英日文校內賽報名表!B19="","",NOT(ISERROR(MATCH(專業英日文校內賽報名表!F19,allSchoolList,0)))) | G19: =IF(專業英日文校內賽報名表!B19="","",NOT(ISERROR(HLOOKUP(專業英日文校內賽報名表!G19,OFFSET(校系設定!$A$1,MATCH(專業英日文校內賽報名表!F19,校系設定!$A:$A,0)-1,0,1,COUNTA(OFFSET(校系設定!$1:$1,MATCH(專業英日文校內賽報名表!F19,校系設定!$A:$A,0)-1,0))),1,0)))) | J19: =IF(專業英日文校內賽報名表!C19="","",NOT(OR(LEN(專業英日文校內賽報名表!J19)<>7,ISERROR(DATEVALUE(專業英日文校內賽報名表!J19&"/1")+FIND("/",專業英日文校內賽報名表!J19))))) | M19: =IF(專業英日文校內賽報名表!B19="","",VLOOKUP(專業英日文校內賽報名表!M19,各項報名參數對照!A:B,2,0)) | N19: =IF(專業英日文校內賽報名表!B19="","",NOT(ISERROR(VLOOKUP(M19&O19&P19,各項報名參數對照!L:L,1,0)))) | O19: =IF(專業英日文校內賽報名表!B19="","",VLOOKUP(專業英日文校內賽報名表!N19&"("&專業英日文校內賽報名表!O19&")",各項報名參數對照!D:E,2,0)) | P19: =IF(專業英日文校內賽報名表!B19="","",VLOOKUP(專業英日文校內賽報名表!P19,各項報名參數對照!G:H,2,0)) | AF19: =O19
E20: =IF(專業英日文校內賽報名表!B20="","",NOT(OR(LENB(專業英日文校內賽報名表!E20)<>6,NOT(ISERROR(TEXT(RIGHT(專業英日文校內賽報名表!E20,6),"0")+1)),ISERROR(TEXT(RIGHT(專業英日文校內賽報名表!E20,5),"0")+1)))) | F20: =IF(專業英日文校內賽報名表!B20="","",NOT(ISERROR(MATCH(專業英日文校內賽報名表!F20,allSchoolList,0)))) | G20: =IF(專業英日文校內賽報名表!B20="","",NOT(ISERROR(HLOOKUP(專業英日文校內賽報名表!G20,OFFSET(校系設定!$A$1,MATCH(專業英日文校內賽報名表!F20,校系設定!$A:$A,0)-1,0,1,COUNTA(OFFSET(校系設定!$1:$1,MATCH(專業英日文校內賽報名表!F20,校系設定!$A:$A,0)-1,0))),1,0)))) | J20: =IF(專業英日文校內賽報名表!C20="","",NOT(OR(LEN(專業英日文校內賽報名表!J20)<>7,ISERROR(DATEVALUE(專業英日文校內賽報名表!J20&"/1")+FIND("/",專業英日文校內賽報名表!J20))))) | M20: =IF(專業英日文校內賽報名表!B20="","",VLOOKUP(專業英日文校內賽報名表!M20,各項報名參數對照!A:B,2,0)) | N20: =IF(專業英日文校內賽報名表!B20="","",NOT(ISERROR(VLOOKUP(M20&O20&P20,各項報名參數對照!L:L,1,0)))) | O20: =IF(專業英日文校內賽報名表!B20="","",VLOOKUP(專業英日文校內賽報名表!N20&"("&專業英日文校內賽報名表!O20&")",各項報名參數對照!D:E,2,0)) | P20: =IF(專業英日文校內賽報名表!B20="","",VLOOKUP(專業英日文校內賽報名表!P20,各項報名參數對照!G:H,2,0)) | AF20: =O20
E21: =IF(專業英日文校內賽報名表!B21="","",NOT(OR(LENB(專業英日文校內賽報名表!E21)<>6,NOT(ISERROR(TEXT(RIGHT(專業英日文校內賽報名表!E21,6),"0")+1)),ISERROR(TEXT(RIGHT(專業英日文校內賽報名表!E21,5),"0")+1)))) | F21: =IF(專業英日文校內賽報名表!B21="","",NOT(ISERROR(MATCH(專業英日文校內賽報名表!F21,allSchoolList,0)))) | G21: =IF(專業英日文校內賽報名表!B21="","",NOT(ISERROR(HLOOKUP(專業英日文校內賽報名表!G21,OFFSET(校系設定!$A$1,MATCH(專業英日文校內賽報名表!F21,校系設定!$A:$A,0)-1,0,1,COUNTA(OFFSET(校系設定!$1:$1,MATCH(專業英日文校內賽報名表!F21,校系設定!$A:$A,0)-1,0))),1,0)))) | J21: =IF(專業英日文校內賽報名表!C21="","",NOT(OR(LEN(專業英日文校內賽報名表!J21)<>7,ISERROR(DATEVALUE(專業英日文校內賽報名表!J21&"/1")+FIND("/",專業英日文校內賽報名表!J21))))) | M21: =IF(專業英日文校內賽報名表!B21="","",VLOOKUP(專業英日文校內賽報名表!M21,各項報名參數對照!A:B,2,0)) | N21: =IF(專業英日文校內賽報名表!B21="","",NOT(ISERROR(VLOOKUP(M21&O21&P21,各項報名參數對照!L:L,1,0)))) | O21: =IF(專業英日文校內賽報名表!B21="","",VLOOKUP(專業英日文校內賽報名表!N21&"("&專業英日文校內賽報名表!O21&")",各項報名參數對照!D:E,2,0)) | P21: =IF(專業英日文校內賽報名表!B21="","",VLOOKUP(專業英日文校內賽報名表!P21,各項報名參數對照!G:H,2,0)) | AF21: =O21
E22: =IF(專業英日文校內賽報名表!B22="","",NOT(OR(LENB(專業英日文校內賽報名表!E22)<>6,NOT(ISERROR(TEXT(RIGHT(專業英日文校內賽報名表!E22,6),"0")+1)),ISERROR(TEXT(RIGHT(專業英日文校內賽報名表!E22,5),"0")+1)))) | F22: =IF(專業英日文校內賽報名表!B22="","",NOT(ISERROR(MATCH(專業英日文校內賽報名表!F22,allSchoolList,0)))) | G22: =IF(專業英日文校內賽報名表!B22="","",NOT(ISERROR(HLOOKUP(專業英日文校內賽報名表!G22,OFFSET(校系設定!$A$1,MATCH(專業英日文校內賽報名表!F22,校系設定!$A:$A,0)-1,0,1,COUNTA(OFFSET(校系設定!$1:$1,MATCH(專業英日文校內賽報名表!F22,校系設定!$A:$A,0)-1,0))),1,0)))) | J22: =IF(專業英日文校內賽報名表!C22="","",NOT(OR(LEN(專業英日文校內賽報名表!J22)<>7,ISERROR(DATEVALUE(專業英日文校內賽報名表!J22&"/1")+FIND("/",專業英日文校內賽報名表!J22))))) | M22: =IF(專業英日文校內賽報名表!B22="","",VLOOKUP(專業英日文校內賽報名表!M22,各項報名參數對照!A:B,2,0)) | N22: =IF(專業英日文校內賽報名表!B22="","",NOT(ISERROR(VLOOKUP(M22&O22&P22,各項報名參數對照!L:L,1,0)))) | O22: =IF(專業英日文校內賽報名表!B22="","",VLOOKUP(專業英日文校內賽報名表!N22&"("&專業英日文校內賽報名表!O22&")",各項報名參數對照!D:E,2,0)) | P22: =IF(專業英日文校內賽報名表!B22="","",VLOOKUP(專業英日文校內賽報名表!P22,各項報名參數對照!G:H,2,0)) | AF22: =O22
E23: =IF(專業英日文校內賽報名表!B23="","",NOT(OR(LENB(專業英日文校內賽報名表!E23)<>6,NOT(ISERROR(TEXT(RIGHT(專業英日文校內賽報名表!E23,6),"0")+1)),ISERROR(TEXT(RIGHT(專業英日文校內賽報名表!E23,5),"0")+1)))) | F23: =IF(專業英日文校內賽報名表!B23="","",NOT(ISERROR(MATCH(專業英日文校內賽報名表!F23,allSchoolList,0)))) | G23: =IF(專業英日文校內賽報名表!B23="","",NOT(ISERROR(HLOOKUP(專業英日文校內賽報名表!G23,OFFSET(校系設定!$A$1,MATCH(專業英日文校內賽報名表!F23,校系設定!$A:$A,0)-1,0,1,COUNTA(OFFSET(校系設定!$1:$1,MATCH(專業英日文校內賽報名表!F23,校系設定!$A:$A,0)-1,0))),1,0)))) | J23: =IF(專業英日文校內賽報名表!C23="","",NOT(OR(LEN(專業英日文校內賽報名表!J23)<>7,ISERROR(DATEVALUE(專業英日文校內賽報名表!J23&"/1")+FIND("/",專業英日文校內賽報名表!J23))))) | M23: =IF(專業英日文校內賽報名表!B23="","",VLOOKUP(專業英日文校內賽報名表!M23,各項報名參數對照!A:B,2,0)) | N23: =IF(專業英日文校內賽報名表!B23="","",NOT(ISERROR(VLOOKUP(M23&O23&P23,各項報名參數對照!L:L,1,0)))) | O23: =IF(專業英日文校內賽報名表!B23="","",VLOOKUP(專業英日文校內賽報名表!N23&"("&專業英日文校內賽報名表!O23&")",各項報名參數對照!D:E,2,0)) | P23: =IF(專業英日文校內賽報名表!B23="","",VLOOKUP(專業英日文校內賽報名表!P23,各項報名參數對照!G:H,2,0)) | AF23: =O23
E24: =IF(專業英日文校內賽報名表!B24="","",NOT(OR(LENB(專業英日文校內賽報名表!E24)<>6,NOT(ISERROR(TEXT(RIGHT(專業英日文校內賽報名表!E24,6),"0")+1)),ISERROR(TEXT(RIGHT(專業英日文校內賽報名表!E24,5),"0")+1)))) | F24: =IF(專業英日文校內賽報名表!B24="","",NOT(ISERROR(MATCH(專業英日文校內賽報名表!F24,allSchoolList,0)))) | G24: =IF(專業英日文校內賽報名表!B24="","",NOT(ISERROR(HLOOKUP(專業英日文校內賽報名表!G24,OFFSET(校系設定!$A$1,MATCH(專業英日文校內賽報名表!F24,校系設定!$A:$A,0)-1,0,1,COUNTA(OFFSET(校系設定!$1:$1,MATCH(專業英日文校內賽報名表!F24,校系設定!$A:$A,0)-1,0))),1,0)))) | J24: =IF(專業英日文校內賽報名表!C24="","",NOT(OR(LEN(專業英日文校內賽報名表!J24)<>7,ISERROR(DATEVALUE(專業英日文校內賽報名表!J24&"/1")+FIND("/",專業英日文校內賽報名表!J24))))) | M24: =IF(專業英日文校內賽報名表!B24="","",VLOOKUP(專業英日文校內賽報名表!M24,各項報名參數對照!A:B,2,0)) | N24: =IF(專業英日文校內賽報名表!B24="","",NOT(ISERROR(VLOOKUP(M24&O24&P24,各項報名參數對照!L:L,1,0)))) | O24: =IF(專業英日文校內賽報名表!B24="","",VLOOKUP(專業英日文校內賽報名表!N24&"("&專業英日文校內賽報名表!O24&")",各項報名參數對照!D:E,2,0)) | P24: =IF(專業英日文校內賽報名表!B24="","",VLOOKUP(專業英日文校內賽報名表!P24,各項報名參數對照!G:H,2,0)) | AF24: =O24
E25: =IF(專業英日文校內賽報名表!B25="","",NOT(OR(LENB(專業英日文校內賽報名表!E25)<>6,NOT(ISERROR(TEXT(RIGHT(專業英日文校內賽報名表!E25,6),"0")+1)),ISERROR(TEXT(RIGHT(專業英日文校內賽報名表!E25,5),"0")+1)))) | F25: =IF(專業英日文校內賽報名表!B25="","",NOT(ISERROR(MATCH(專業英日文校內賽報名表!F25,allSchoolList,0)))) | G25: =IF(專業英日文校內賽報名表!B25="","",NOT(ISERROR(HLOOKUP(專業英日文校內賽報名表!G25,OFFSET(校系設定!$A$1,MATCH(專業英日文校內賽報名表!F25,校系設定!$A:$A,0)-1,0,1,COUNTA(OFFSET(校系設定!$1:$1,MATCH(專業英日文校內賽報名表!F25,校系設定!$A:$A,0)-1,0))),1,0)))) | J25: =IF(專業英日文校內賽報名表!C25="","",NOT(OR(LEN(專業英日文校內賽報名表!J25)<>7,ISERROR(DATEVALUE(專業英日文校內賽報名表!J25&"/1")+FIND("/",專業英日文校內賽報名表!J25))))) | M25: =IF(專業英日文校內賽報名表!B25="","",VLOOKUP(專業英日文校內賽報名表!M25,各項報名參數對照!A:B,2,0)) | N25: =IF(專業英日文校內賽報名表!B25="","",NOT(ISERROR(VLOOKUP(M25&O25&P25,各項報名參數對照!L:L,1,0)))) | O25: =IF(專業英日文校內賽報名表!B25="","",VLOOKUP(專業英日文校內賽報名表!N25&"("&專業英日文校內賽報名表!O25&")",各項報名參數對照!D:E,2,0)) | P25: =IF(專業英日文校內賽報名表!B25="","",VLOOKUP(專業英日文校內賽報名表!P25,各項報名參數對照!G:H,2,0)) | AF25: =O25
E26: =IF(專業英日文校內賽報名表!B26="","",NOT(OR(LENB(專業英日文校內賽報名表!E26)<>6,NOT(ISERROR(TEXT(RIGHT(專業英日文校內賽報名表!E26,6),"0")+1)),ISERROR(TEXT(RIGHT(專業英日文校內賽報名表!E26,5),"0")+1)))) | F26: =IF(專業英日文校內賽報名表!B26="","",NOT(ISERROR(MATCH(專業英日文校內賽報名表!F26,allSchoolList,0)))) | G26: =IF(專業英日文校內賽報名表!B26="","",NOT(ISERROR(HLOOKUP(專業英日文校內賽報名表!G26,OFFSET(校系設定!$A$1,MATCH(專業英日文校內賽報名表!F26,校系設定!$A:$A,0)-1,0,1,COUNTA(OFFSET(校系設定!$1:$1,MATCH(專業英日文校內賽報名表!F26,校系設定!$A:$A,0)-1,0))),1,0)))) | J26: =IF(專業英日文校內賽報名表!C26="","",NOT(OR(LEN(專業英日文校內賽報名表!J26)<>7,ISERROR(DATEVALUE(專業英日文校內賽報名表!J26&"/1")+FIND("/",專業英日文校內賽報名表!J26))))) | M26: =IF(專業英日文校內賽報名表!B26="","",VLOOKUP(專業英日文校內賽報名表!M26,各項報名參數對照!A:B,2,0)) | N26: =IF(專業英日文校內賽報名表!B26="","",NOT(ISERROR(VLOOKUP(M26&O26&P26,各項報名參數對照!L:L,1,0)))) | O26: =IF(專業英日文校內賽報名表!B26="","",VLOOKUP(專業英日文校內賽報名表!N26&"("&專業英日文校內賽報名表!O26&")",各項報名參數對照!D:E,2,0)) | P26: =IF(專業英日文校內賽報名表!B26="","",VLOOKUP(專業英日文校內賽報名表!P26,各項報名參數對照!G:H,2,0)) | AF26: =O26
E27: =IF(專業英日文校內賽報名表!B27="","",NOT(OR(LENB(專業英日文校內賽報名表!E27)<>6,NOT(ISERROR(TEXT(RIGHT(專業英日文校內賽報名表!E27,6),"0")+1)),ISERROR(TEXT(RIGHT(專業英日文校內賽報名表!E27,5),"0")+1)))) | F27: =IF(專業英日文校內賽報名表!B27="","",NOT(ISERROR(MATCH(專業英日文校內賽報名表!F27,allSchoolList,0)))) | G27: =IF(專業英日文校內賽報名表!B27="","",NOT(ISERROR(HLOOKUP(專業英日文校內賽報名表!G27,OFFSET(校系設定!$A$1,MATCH(專業英日文校內賽報名表!F27,校系設定!$A:$A,0)-1,0,1,COUNTA(OFFSET(校系設定!$1:$1,MATCH(專業英日文校內賽報名表!F27,校系設定!$A:$A,0)-1,0))),1,0)))) | J27: =IF(專業英日文校內賽報名表!C27="","",NOT(OR(LEN(專業英日文校內賽報名表!J27)<>7,ISERROR(DATEVALUE(專業英日文校內賽報名表!J27&"/1")+FIND("/",專業英日文校內賽報名表!J27))))) | M27: =IF(專業英日文校內賽報名表!B27="","",VLOOKUP(專業英日文校內賽報名表!M27,各項報名參數對照!A:B,2,0)) | N27: =IF(專業英日文校內賽報名表!B27="","",NOT(ISERROR(VLOOKUP(M27&O27&P27,各項報名參數對照!L:L,1,0)))) | O27: =IF(專業英日文校內賽報名表!B27="","",VLOOKUP(專業英日文校內賽報名表!N27&"("&專業英日文校內賽報名表!O27&")",各項報名參數對照!D:E,2,0)) | P27: =IF(專業英日文校內賽報名表!B27="","",VLOOKUP(專業英日文校內賽報名表!P27,各項報名參數對照!G:H,2,0)) | AF27: =O27
... E2000: =IF(專業英日文校內賽報名表!B2000="","",NOT(OR(LENB(專業英日文校內賽報名表!E2000)<>6,NOT(ISERROR(TEXT(RIGHT(專業英日文校內賽報名表!E2000,6),"0")+1)),ISERROR(TEXT(RIGHT(專業英日文校內賽報名表!E2000,5),"0")+1)))) | F2000: =IF(專業英日文校內賽報名表!B2000="","",NOT(ISERROR(MATCH(專業英日文校內賽報名表!F2000,allSchoolList,0)))) | G2000: =IF(專業英日文校內賽報名表!B2000="","",NOT(ISERROR(HLOOKUP(專業英日文校內賽報名表!G2000,OFFSET(校系設定!$A$1,MATCH(專業英日文校內賽報名表!F2000,校系設定!$A:$A,0)-1,0,1,COUNTA(OFFSET(校系設定!$1:$1,MATCH(專業英日文校內賽報名表!F2000,校系設定!$A:$A,0)-1,0))),1,0)))) | J2000: =IF(專業英日文校內賽報名表!C2000="","",NOT(OR(LEN(專業英日文校內賽報名表!J2000)<>7,ISERROR(DATEVALUE(專業英日文校內賽報名表!J2000&"/1")+FIND("/",專業英日文校內賽報名表!J2000))))) | M2000: =IF(專業英日文校內賽報名表!B2000="","",VLOOKUP(專業英日文校內賽報名表!M2000,各項報名參數對照!A:B,2,0)) | N2000: =IF(專業英日文校內賽報名表!B2000="","",NOT(ISERROR(VLOOKUP(M2000&O2000&P2000,各項報名參數對照!L:L,1,0)))) | O2000: =IF(專業英日文校內賽報名表!B2000="","",VLOOKUP(專業英日文校內賽報名表!N2000&"("&專業英日文校內賽報名表!O2000&")",各項報名參數對照!D:E,2,0)) | P2000: =IF(專業英日文校內賽報名表!B2000="","",VLOOKUP(專業英日文校內賽報名表!P2000,各項報名參數對照!G:H,2,0)) | AF2000: =O2000

Sheet 參數設定
A1: 主資料工作表名稱 | B1: 取代前文字 | C1: 取代後文字 | D1: 檢核資料最終列 | E1: 學校科系 | F1: 全表取代前文字 | G1: 全表取代後文字 | H1: 全表取代備註
A2: 專業英日文校內賽報名表 | B2: â | C2: a | D2: 2000 | H2: 隱藏字元
B3: ê | C3: e | H3: 換行符號
B4: î | C4: i | H4: 隱藏字元2
B5: ô | C5: o
B6: û | C6: u
B7: _ | C7: -
B8: Ａ | C8: A
B9: Ｂ | C9: B
B10: Ｃ | C10: C
B11: Ｄ | C11: D
B12: Ｅ | C12: E
B13: Ｆ | C13: F
B14: Ｇ | C14: G
B15: Ｈ | C15: H
B16: Ｉ | C16: I
... B69: ９ | C69: 9

Sheet 校系設定
A1: 學校 | B1: 科系
A2: 縣立三星國小
A3: 縣立大洲國小
A4: 縣立憲明國小
A5: 縣立萬富國小
A6: 縣立大隱國小
A7: 縣立四季國小
A8: 縣立南山國小
A9: 宜蘭縣立大同國小
A10: 縣立寒溪國小
A11: 縣立五結國小
A12: 縣立學進國小
A13: 宜蘭縣立中興國小
... A4214: 國立臺灣大學
A4215: 國立臺灣師範大學 | B4215: 工業教育學系
A4216: 國立臺灣科技大學
A4217: 國立臺北科技大學
A4218: 國立臺北教育大學
A4219: 實踐大學
A4220: 大同大學
A4221: 國立臺北商業大學
A4222: 臺北市立大學
A4223: 國立臺灣戲曲學院
A4224: 德明財經科技大學
A4225: 康寧大學
A4226: 國立政治大學
A4227: 世新大學
... A4284: 國立臺南大學附屬啟聰學校
A4285: 中臺科技大學 | B4285: 牙體技術暨材料系 | C4285: 兒童教育暨事業經營系 | D4285: 醫學檢驗生物技術系 | E4285: 醫療暨健康產業管理系 | F4285: 護理系
A4286: 弘光科技大學 | B4286: 國際溝通英語系 | C4286: 餐旅管理系 | D4286: 護理系
A4287: 光華高工 | B4287: 室內設計科 | C4287: 消防工程科 | D4287: 資訊科 | E4287: 電子科 | F4287: 電機科 | G4287: 製圖科 | H4287: 機械科
A4288: 明台高中 | B4288: 烘焙食品科 | C4288: 資料處理科 | D4288: 餐飲管理科
A4289: 建國科技大學 | B4289: 電機系 | C4289: 應用外語系
A4290: 國立竹山高中 | B4290: 資料處理科
A4291: 國立卓蘭高級中等學校 | B4291: 商經科 | C4291: 國貿科 | D4291: 應英科
A4292: 國立南投高商 | B4292: 商業經營科 | C4292: 國際貿易科 | D4292: 會計事務科 | E4292: 資料處理科 | F4292: 電子商務科 | G4292: 應用英語科
A4293: 國立草屯高級商工職業學校 | B4293: 資料處理科 | C4293: 應用英語科
A4294: 國立勤益科技大學 | B4294: 資工系
A4295: 崇仁醫護管理專科學校 | B4295: 護理科
A4296: 二信高中 | B4296: 應用外語科
A4297: 大興高級中學 | B4297: 多媒體應用科 | C4297: 汽車科 | D4297: 飛機修護科 | E4297: 時尚造型科 | F4297: 普通科 | G4297: 資訊科 | H4297: 電機科 | I4297: 電機修護科 | J4297: 餐飲管理科
A4298: 中山工商 | B4298: 幼兒保育科 | C4298: 多媒體技術科 | D4298: 汽車科 | E4298: 汽車修護科 | F4298: 美容科 | G4298: 美髮技術科技術科 | H4298: 商業經營科 | I4298: 資料處理科 | J4298: 資訊科 | K4298: 電子科 | L4298: 電機科 | M4298: 機電科 | N4298: 餐飲技術科 | O4298: 餐飲管理科 | P4298: 應用日語科 | Q4298: 應用英語科 | R4298: 觀光事業科
A4299: 中國科技大學(台北校區) | B4299: 土木防災系 | C4299: 企業管理系 | D4299: 行銷與流通管理系 | E4299: 室內設計系 | F4299: 建築系 | G4299: 財金系 | H4299: 財務金融系 | I4299: 國際商務系 | J4299: 視覺傳達設計系 | K4299: 資訊工程系 | L4299: 資訊管理系 | M4299: 影視設計系 | N4299: 數位多媒體設計系 | O4299: 應用英語系 | P4299: 觀光與休閒事業管理系
A4300: 中國科技大學(新竹校區) | B4300: 行銷與流通管理系 | C4300: 室內設計系 | D4300: 視覺傳達設計系 | E4300: 資訊工程系 | F4300: 影視設計系 | G4300: 數位多媒體設計系 | H4300: 觀光與休閒事業管理系
A4301: 中華大學 | B4301: 應用日語學系 | C4301: 應智學程
A4302: 中壢家商 | B4302: 應用英語科
A4303: 元培醫事科技大學 | B4303: 生物醫學工程系 | C4303: 資訊管理系 | D4303: 餐飲管理系 | E4303: 寵物保健系
A4304: 臺中市明德中學 | B4304: 普通科 | C4304: 餐飲管理科 | D4304: 觀光事業科
A4305: 臺北市大誠高中 | B4305: 汽車科
A4306: 臺南市私立長榮中學 | B4306: 國貿科 | C4306: 應英科 | D4306: 觀光科
A4307: 市立高雄高商 | B4307: 商業經營科 | C4307: 國際貿易科 | D4307: 會計事務科
A4308: 正修科技大學 | B4308: 土木與空間資訊系 | C4308: 資訊工程系 | D4308: 電子工程系 | E4308: 機械工程系 | F4308: 應用外語系
A4309: 永平工商 | B4309: 餐飲科
A4310: 立志中學 | B4310: 水電技術科 | C4310: 汽車科 | D4310: 美容科 | E4310: 資料處理科 | F4310: 資訊科 | G4310: 電子科 | H4310: 電機科 | I4310: 電競科 | J4310: 電競經營科 | K4310: 餐飲管理科
A4311: 宏國德霖科技大學 | B4311: 應用外語科 | C4311: 應用英語系
A4312: 明道中學 | B4312: 商業經營科 | C4312: 餐飲管理科 | D4312: 應用英語科 | E4312: 觀光事業科
A4313: 東南科技大學 | B4313: 休閒事業管理系 | C4313: 表演藝術系 | D4313: 室內設計系 | E4313: 創意產品設計系 | F4313: 電機工程系 | G4313: 數位媒體設計系 | H4313: 機械工程系 | I4313: 餐旅管理系 | J4313: 餐旅管理系僑生產學攜手班 | K4313: 應用英語系
A4314: 治平高中 | B4314: 資料處理科 | C4314: 電子商務科 | D4314: 綜合科 | E4314: 應用外語科
A4315: 長庚科技大學(林口校區) | B4315: 幼保系 | C4315: 高照系 | D4315: 護理系
A4316: 長庚科技大學(嘉義分部) | B4316: 呼吸照護系 | C4316: 護理系
A4317: 長榮女中 | B4317: 美容科 | C4317: 時尚造型科 | D4317: 餐飲管理科 | E4317: 觀光事業科
A4318: 南臺科技大學 | B4318: 應用日語系 | C4318: 應用英語系
A4319: 美和科技大學 | B4319: 企業管理系 | C4319: 護理系 | D4319: 觀光系
A4320: 致理科技大學 | B4320: 企業管理系 | C4320: 多媒體設計系 | D4320: 行銷與流通管理系 | E4320: 財務金融系 | F4320: 商務科技管理系 | G4320: 國際貿易系 | H4320: 會計資訊系 | I4320: 資訊管理系 | J4320: 應用日語系 | K4320: 應用英語系
A4321: 耕莘健康管理專科學校(宜蘭校區) | B4321: 健康餐旅科 | C4321: 護理科
A4322: 耕莘健康管理專科學校(新店校區) | B4322: 口腔衛生與健康照護科 | C4322: 化妝品應用與管理科 | D4322: 嬰幼兒保育科 | E4322: 護理科
A4323: 能仁家商 | B4323: 幼保科 | C4323: 多媒體設計科 | D4323: 美容科 | E4323: 商業經營科 | F4323: 資料處理科 | G4323: 演藝科 | H4323: 廣告設計科 | I4323: 餐飲科
A4324: 馬偕學校財團法人馬偕醫護管理專科學校 | B4324: 護理科
A4325: 健行科技大學 | B4325: 80學分班 | C4325: 土木工程系 | D4325: 工業管理系 | E4325: 企業管理系 | F4325: 行銷與流通管理系 | G4325: 材料製造科技學位學程 | H4325: 車輛工程系 | I4325: 室內設計與管理系 | J4325: 財務金融系 | K4325: 國際企業經營系 | L4325: 資訊工程系 | M4325: 資訊管理系 | N4325: 電子工程系 | O4325: 電機工程系 | P4325: 數位多媒體設計系 | Q4325: 機械工程系 | R4325: 餐旅管理系
A4326: 啟英高中 | B4326: 室設科 | C4326: 廣設科
A4327: 國立水里高級商工職業學校 | B4327: 應用日語科 | C4327: 觀光事業科
A4328: 國立北港高級中學 | B4328: 應用英語科
A4329: 國立北港農工 | B4329: 電機科
A4330: 國立玉井高級工商職業學校 | B4330: 餐飲管理科
A4331: 國立宜蘭大學 | B4331: 資訊工程學系 | C4331: 電子工程學系 | D4331: 電機工程學系 | E4331: 機械與機電工程學系
A4332: 國立虎尾科技大學 | B4332: 企業管理系 | C4332: 光電工程系 | D4332: 材料科學與工程系 | E4332: 車輛工程系 | F4332: 動力機械工程系 | G4332: 資訊工程系 | H4332: 資訊工程系碩士班 | I4332: 機械設計工程系
A4333: 國立虎尾農工 | B4333: 商業經營科 | C4333: 電機科
A4334: 國立金門高級農工職業學校 | B4334: 餐飲管理科
A4335: 國立曾文家商 | B4335: 幼兒保育科 | C4335: 商業經營科 | D4335: 資料處理科 | E4335: 電子商務科 | F4335: 銷售事務科 | G4335: 餐飲管理科
A4336: 國立曾文農工 | B4336: 電子科
A4337: 國立華南高商 | B4337: 商業經營科 | C4337: 觀光事業科
A4338: 國立雲林科技大學 | B4338: 國際管理學士學位學程 | C4338: 智慧機器人學士學位學程
A4339: 國立新竹高商 | B4339: 國際貿易科
A4340: 國立新營高級中學 | B4340: 流通管理科 | C4340: 商業經營科 | D4340: 資料處理科 | E4340: 電子商務科 | F4340: 應用英語科
A4341: 國立嘉義家職 | B4341: 美顏技術科 | C4341: 食品科 | D4341: 時尚造型科 | E4341: 餐飲管理科
A4342: 國立嘉義高級商業職業學校 | B4342: 應用英語科
A4343: 國立臺北商業大學(桃園校區) | B4343: 商業設計管理系 | C4343: 創意科技與產品設計系 | D4343: 數位多媒體設計系
A4344: 國立臺北商業大學(臺北校區) | B4344: 企業管理系 | C4344: 財政稅務系 | D4344: 財務金融系 | E4344: 國際商務系 | F4344: 會計資訊系 | G4344: 資訊管理系 | H4344: 應用外語系
A4345: 國立臺東高商 | B4345: 會計事務科 | C4345: 資料處理科 | D4345: 應用英語科 | E4345: 觀光事業科
A4346: 國立臺東專科學校 | B4346: 動力機械科 | C4346: 餐旅管理科
A4347: 國立羅東高級工業職業學校 | B4347: 電機科
A4348: 國立蘇澳海事 | B4348: 觀光事業科
A4349: 康寧大學(台北校區) | B4349: 護理科
A4350: 敏惠醫護管理專科學校 | B4350: 長期照顧與健康促進管理科 | C4350: 美容保健科 | D4350: 護理科
A4351: 清傳高商 | B4351: 商業經營科 | C4351: 資料處理科 | D4351: 應用日語科
A4352: 景文科技大學 | B4352: 企業管理系 | C4352: 行動商務與多媒體應用系 | D4352: 行銷與流通管理系 | E4352: 旅遊管理系 | F4352: 旅館管理系 | G4352: 理財與稅務規劃系 | H4352: 視覺傳達設計系 | I4352: 餐飲管理系 | J4352: 應用外語系
A4353: 慈惠醫護管理專科學校 | B4353: 護理科
A4354: 慈濟科技大學 | B4354: 護理系
A4355: 新北市立三重高級商工職業學校 | B4355: 汽車科 | C4355: 應用英語科
A4356: 新北市立淡水高級商工職業學校 | B4356: 商業經營科 | C4356: 控制科 | D4356: 普通科 | E4356: 園藝科 | F4356: 會計科 | G4356: 資訊科 | H4356: 電子科 | I4356: 電機科 | J4356: 餐飲科 | K4356: 餐飲管理科
...

Sheet 學校查找
A1: 學校 | B1: 學校地址(含郵遞區號) | C1: 縣市名稱 | D1: 鄉鎮市區 | E1: 學制 | F1: 學校代碼 | H1: Index | I1: Rows | J1: Result | K1: Target
A2: 縣立三星國小 | B2: [266]宜蘭縣三星鄉三星路五段86號 | C2: 宜蘭縣 | D2: 三星鄉 | E2: 國民小學 | F2: 24661 | H2: =IF(ISNUMBER(SEARCH($K$2,A2)),MAX($H$1:H1)+1,0) -> 0 | I2: =ROWS($H$2:H2) -> 1 | J2: =IFERROR(INDEX($A:$A,MATCH(I2,$H:$H,0)),"") -> 國立虎尾高中 | K2: 國立虎尾
A3: 縣立大洲國小 | B3: [266]宜蘭縣三星鄉大洲村上將路二段500號 | C3: 宜蘭縣 | D3: 三星鄉 | E3: 國民小學 | F3: 24662 | H3: =IF(ISNUMBER(SEARCH($K$2,A3)),MAX($H$1:H2)+1,0) -> 0 | I3: =ROWS($H$2:H3) -> 2 | J3: =IFERROR(INDEX($A:$A,MATCH(I3,$H:$H,0)),"") -> 國立虎尾農工
A4: 縣立憲明國小 | B4: [266]宜蘭縣三星鄉天山村福山街119號 | C4: 宜蘭縣 | D4: 三星鄉 | E4: 國民小學 | F4: 24663 | H4: =IF(ISNUMBER(SEARCH($K$2,A4)),MAX($H$1:H3)+1,0) -> 0 | I4: =ROWS($H$2:H4) -> 3 | J4: =IFERROR(INDEX($A:$A,MATCH(I4,$H:$H,0)),"") -> 國立虎尾科技大學
A5: 縣立萬富國小 | B5: [266]宜蘭縣三星鄉萬富村健富路一段309號 | C5: 宜蘭縣 | D5: 三星鄉 | E5: 國民小學 | F5: 24664 | H5: =IF(ISNUMBER(SEARCH($K$2,A5)),MAX($H$1:H4)+1,0) -> 0 | I5: =ROWS($H$2:H5) -> 4 | J5: =IFERROR(INDEX($A:$A,MATCH(I5,$H:$H,0)),"")
A6: 縣立大隱國小 | B6: [266]宜蘭縣三星鄉大隱中路347號 | C6: 宜蘭縣 | D6: 三星鄉 | E6: 國民小學 | F6: 24665 | H6: =IF(ISNUMBER(SEARCH($K$2,A6)),MAX($H$1:H5)+1,0) -> 0 | I6: =ROWS($H$2:H6) -> 5 | J6: =IFERROR(INDEX($A:$A,MATCH(I6,$H:$H,0)),"")
A7: 縣立四季國小 | B7: [267]宜蘭縣大同鄉四季村和勳巷1號 | C7: 宜蘭縣 | D7: 大同鄉 | E7: 國民小學 | F7: 24668 | H7: =IF(ISNUMBER(SEARCH($K$2,A7)),MAX($H$1:H6)+1,0) -> 0 | I7: =ROWS($H$2:H7) -> 6 | J7: =IFERROR(INDEX($A:$A,MATCH(I7,$H:$H,0)),"")
A8: 縣立南山國小 | B8: [267]宜蘭縣大同鄉南山村四鄰埤南巷31之3號 | C8: 宜蘭縣 | D8: 大同鄉 | E8: 國民小學 | F8: 24669 | H8: =IF(ISNUMBER(SEARCH($K$2,A8)),MAX($H$1:H7)+1,0) -> 0 | I8: =ROWS($H$2:H8) -> 7 | J8: =IFERROR(INDEX($A:$A,MATCH(I8,$H:$H,0)),"")
A9: 宜蘭縣立大同國小 | B9: [267]宜蘭縣大同鄉崙埤村朝陽10之9號 | C9: 宜蘭縣 | D9: 大同鄉 | E9: 國民小學 | F9: 24670 | H9: =IF(ISNUMBER(SEARCH($K$2,A9)),MAX($H$1:H8)+1,0) -> 0 | I9: =ROWS($H$2:H9) -> 8 | J9: =IFERROR(INDEX($A:$A,MATCH(I9,$H:$H,0)),"")
A10: 縣立寒溪國小 | B10: [267]宜蘭縣大同鄉寒溪村寒溪巷16號 | C10: 宜蘭縣 | D10: 大同鄉 | E10: 國民小學 | F10: 24671 | H10: =IF(ISNUMBER(SEARCH($K$2,A10)),MAX($H$1:H9)+1,0) -> 0 | I10: =ROWS($H$2:H10) -> 9 | J10: =IFERROR(INDEX($A:$A,MATCH(I10,$H:$H,0)),"")
A11: 縣立五結國小 | B11: [268]宜蘭縣五結鄉五結中路二段88號 | C11: 宜蘭縣 | D11: 五結鄉 | E11: 國民小學 | F11: 24649 | H11: =IF(ISNUMBER(SEARCH($K$2,A11)),MAX($H$1:H10)+1,0) -> 0 | I11: =ROWS($H$2:H11) -> 10 | J11: =IFERROR(INDEX($A:$A,MATCH(I11,$H:$H,0)),"")
A12: 縣立學進國小 | B12: [268]宜蘭縣五結鄉中正路三段151號 | C12: 宜蘭縣 | D12: 五結鄉 | E12: 國民小學 | F12: 24650 | H12: =IF(ISNUMBER(SEARCH($K$2,A12)),MAX($H$1:H11)+1,0) -> 0 | I12: =ROWS($H$2:H12) -> 11 | J12: =IFERROR(INDEX($A:$A,MATCH(I12,$H:$H,0)),"")
A13: 宜蘭縣立中興國小 | B13: [268]宜蘭縣五結鄉四結村中興路三段67號 | C13: 宜蘭縣 | D13: 五結鄉 | E13: 國民小學 | F13: 24651 | H13: =IF(ISNUMBER(SEARCH($K$2,A13)),MAX($H$1:H12)+1,0) -> 0 | I13: =ROWS($H$2:H13) -> 12 | J13: =IFERROR(INDEX($A:$A,MATCH(I13,$H:$H,0)),"")
A14: 縣立利澤國小 | B14: [268]宜蘭縣五結鄉成興村利寶路101號 | C14: 宜蘭縣 | D14: 五結鄉 | E14: 國民小學 | F14: 24652 | H14: =IF(ISNUMBER(SEARCH($K$2,A14)),MAX($H$1:H13)+1,0) -> 0 | I14: =ROWS($H$2:H14) -> 13 | J14: =IFERROR(INDEX($A:$A,MATCH(I14,$H:$H,0)),"")
... A3863: 私立豫章工商 | B3863: [220]新北市板橋區四川路一段391號 | C3863: 新北市 | D3863: 板橋區 | E3863: 高級中等學校 | F3863: 11427 | H3863: =IF(ISNUMBER(SEARCH($K$2,A3863)),MAX($H$1:H3862)+1,0) -> 0 | I3863: =ROWS($H$2:H3863) -> 3862 | J3863: =IFERROR(INDEX($A:$A,MATCH(I3863,$H:$H,0)),"")
A3864: 私立光華高商進修學校 | B3864: [220]新北市板橋區南雅南路二段1號 | C3864: 新北市 | D3864: 板橋區 | E3864: 高級中等學校 | F3864: 011C71 | H3864: =IF(ISNUMBER(SEARCH($K$2,A3864)),MAX($H$1:H3863)+1,0) -> 0 | I3864: =ROWS($H$2:H3864) -> 3863 | J3864: =IFERROR(INDEX($A:$A,MATCH(I3864,$H:$H,0)),"")
A3865: 市立板橋高中 | B3865: [220]新北市板橋區文化路一段25號 | C3865: 新北市 | D3865: 板橋區 | E3865: 高級中等學校 | F3865: 13304 | H3865: =IF(ISNUMBER(SEARCH($K$2,A3865)),MAX($H$1:H3864)+1,0) -> 0 | I3865: =ROWS($H$2:H3865) -> 3864 | J3865: =IFERROR(INDEX($A:$A,MATCH(I3865,$H:$H,0)),"")
A3866: 市立海山高中 | B3866: [220]新北市板橋區漢生東路215號 | C3866: 新北市 | D3866: 板橋區 | E3866: 高級中等學校 | F3866: 14302 | H3866: =IF(ISNUMBER(SEARCH($K$2,A3866)),MAX($H$1:H3865)+1,0) -> 0 | I3866: =ROWS($H$2:H3866) -> 3865 | J3866: =IFERROR(INDEX($A:$A,MATCH(I3866,$H:$H,0)),"")
A3867: 市立光復高中 | B3867: [220]新北市板橋區光環路一段7號 | C3867: 新北市 | D3867: 板橋區 | E3867: 高級中等學校 | F3867: 14363 | H3867: =IF(ISNUMBER(SEARCH($K$2,A3867)),MAX($H$1:H3866)+1,0) -> 0 | I3867: =ROWS($H$2:H3867) -> 3866 | J3867: =IFERROR(INDEX($A:$A,MATCH(I3867,$H:$H,0)),"")
A3868: 市立金山高中 | B3868: [208]新北市金山區美田里文化二路2號 | C3868: 新北市 | D3868: 金山區 | E3868: 高級中等學校 | F3868: 14338 | H3868: =IF(ISNUMBER(SEARCH($K$2,A3868)),MAX($H$1:H3867)+1,0) -> 0 | I3868: =ROWS($H$2:H3868) -> 3867 | J3868: =IFERROR(INDEX($A:$A,MATCH(I3868,$H:$H,0)),"")
A3869: 市立泰山高中 | B3869: [243]新北市泰山區辭修路7號 | C3869: 新北市 | D3869: 泰山區 | E3869: 高級中等學校 | F3869: 13303 | H3869: =IF(ISNUMBER(SEARCH($K$2,A3869)),MAX($H$1:H3868)+1,0) -> 0 | I3869: =ROWS($H$2:H3869) -> 3868 | J3869: =IFERROR(INDEX($A:$A,MATCH(I3869,$H:$H,0)),"")
A3870: 市立豐珠中學 | B3870: [228]新北市貢寮區美豐里雞母嶺街6-6號 | C3870: 新北市 | D3870: 貢寮區 | E3870: 高級中等學校 | F3870: 14399 | H3870: =IF(ISNUMBER(SEARCH($K$2,A3870)),MAX($H$1:H3869)+1,0) -> 0 | I3870: =ROWS($H$2:H3870) -> 3869 | J3870: =IFERROR(INDEX($A:$A,MATCH(I3870,$H:$H,0)),"")
A3871: 私立淡江高中 | B3871: [251]新北市淡水區真理街26號 | C3871: 新北市 | D3871: 淡水區 | E3871: 高級中等學校 | F3871: 11301 | H3871: =IF(ISNUMBER(SEARCH($K$2,A3871)),MAX($H$1:H3870)+1,0) -> 0 | I3871: =ROWS($H$2:H3871) -> 3870 | J3871: =IFERROR(INDEX($A:$A,MATCH(I3871,$H:$H,0)),"")
A3872: 新北市立淡水高級商工職業學校 | B3872: [251]新北市淡水區商工路307號 | C3872: 新北市 | D3872: 淡水區 | E3872: 高級中等學校 | F3872: 13434 | H3872: =IF(ISNUMBER(SEARCH($K$2,A3872)),MAX($H$1:H3871)+1,0) -> 0 | I3872: =ROWS($H$2:H3872) -> 3871 | J3872: =IFERROR(INDEX($A:$A,MATCH(I3872,$H:$H,0)),"")
A3873: 市立竹圍高中 | B3873: [251]新北市淡水區竹林路 35 號 | C3873: 新北市 | D3873: 淡水區 | E3873: 高級中等學校 | F3873: 14364 | H3873: =IF(ISNUMBER(SEARCH($K$2,A3873)),MAX($H$1:H3872)+1,0) -> 0 | I3873: =ROWS($H$2:H3873) -> 3872 | J3873: =IFERROR(INDEX($A:$A,MATCH(I3873,$H:$H,0)),"")
A3874: 私立康橋高中 | B3874: [231]新北市新店區華城路800號 | C3874: 新北市 | D3874: 新店區 | E3874: 高級中等學校 | F3874: 11302 | H3874: =IF(ISNUMBER(SEARCH($K$2,A3874)),MAX($H$1:H3873)+1,0) -> 0 | I3874: =ROWS($H$2:H3874) -> 3873 | J3874: =IFERROR(INDEX($A:$A,MATCH(I3874,$H:$H,0)),"")
A3875: 新北市崇光高中 | B3875: [231]新北市新店區三民路18號 | C3875: 新北市 | D3875: 新店區 | E3875: 高級中等學校 | F3875: 11322 | H3875: =IF(ISNUMBER(SEARCH($K$2,A3875)),MAX($H$1:H3874)+1,0) -> 0 | I3875: =ROWS($H$2:H3875) -> 3874 | J3875: =IFERROR(INDEX($A:$A,MATCH(I3875,$H:$H,0)),"")
A3876: 私立及人高中 | B3876: [231]新北市新店區安興路1號 | C3876: 新北市 | D3876: 新店區 | E3876: 高級中等學校 | F3876: 11325 | H3876: =IF(ISNUMBER(SEARCH($K$2,A3876)),MAX($H$1:H3875)+1,0) -> 0 | I3876: =ROWS($H$2:H3876) -> 3875 | J3876: =IFERROR(INDEX($A:$A,MATCH(I3876,$H:$H,0)),"")
... A4020: 私立稻江高商 | B4020: [103]臺北市大同區國昌里民權西路225巷24號 | C4020: 臺北市 | D4020: 大同區 | E4020: 高級中等學校 | F4020: 361401 | H4020: =IF(ISNUMBER(SEARCH($K$2,A4020)),MAX($H$1:H4019)+1,0) -> 0 | I4020: =ROWS($H$2:H4020) -> 4019 | J4020: =IFERROR(INDEX($A:$A,MATCH(I4020,$H:$H,0)),"")
A4021: 私立志仁中學進修學校 | B4021: [103]臺北市大同區建泰里南京西路64巷17號 | C4021: 臺北市 | D4021: 大同區 | E4021: 高級中等學校 | F4021: 361B09 | H4021: =IF(ISNUMBER(SEARCH($K$2,A4021)),MAX($H$1:H4020)+1,0) -> 0 | I4021: =ROWS($H$2:H4021) -> 4020 | J4021: =IFERROR(INDEX($A:$A,MATCH(I4021,$H:$H,0)),"")
A4022: 市立明倫高中 | B4022: [103]臺北市大同區保安里承德路3段336號 | C4022: 臺北市 | D4022: 大同區 | E4022: 高級中等學校 | F4022: 363301 | H4022: =IF(ISNUMBER(SEARCH($K$2,A4022)),MAX($H$1:H4021)+1,0) -> 0 | I4022: =ROWS($H$2:H4022) -> 4021 | J4022: =IFERROR(INDEX($A:$A,MATCH(I4022,$H:$H,0)),"")
A4023: 市立成淵高中 | B4023: [103]臺北市大同區承德路二段235號 | C4023: 臺北市 | D4023: 大同區 | E4023: 高級中等學校 | F4023: 363302 | H4023: =IF(ISNUMBER(SEARCH($K$2,A4023)),MAX($H$1:H4022)+1,0) -> 0 | I4023: =ROWS($H$2:H4023) -> 4022 | J4023: =IFERROR(INDEX($A:$A,MATCH(I4023,$H:$H,0)),"")
A4024: 國立師大附中 | B4024: [106]臺北市大安區和安里信義路3段143號 | C4024: 臺北市 | D4024: 大安區 | E4024: 高級中等學校 | F4024: 330301 | H4024: =IF(ISNUMBER(SEARCH($K$2,A4024)),MAX($H$1:H4023)+1,0) -> 0 | I4024: =ROWS($H$2:H4024) -> 4023 | J4024: =IFERROR(INDEX($A:$A,MATCH(I4024,$H:$H,0)),"")
A4025: 私立延平中學 | B4025: [106]臺北市大安區和安里建國南路1段275號 | C4025: 臺北市 | D4025: 大安區 | E4025: 高級中等學校 | F4025: 331301 | H4025: =IF(ISNUMBER(SEARCH($K$2,A4025)),MAX($H$1:H4024)+1,0) -> 0 | I4025: =ROWS($H$2:H4025) -> 4024 | J4025: =IFERROR(INDEX($A:$A,MATCH(I4025,$H:$H,0)),"")
A4026: 臺北市金甌女子高級中等學校 | B4026: [106]臺北市大安區光明里杭州南路2段1號 | C4026: 臺北市 | D4026: 大安區 | E4026: 高級中等學校 | F4026: 331302 | H4026: =IF(ISNUMBER(SEARCH($K$2,A4026)),MAX($H$1:H4025)+1,0) -> 0 | I4026: =ROWS($H$2:H4026) -> 4025 | J4026: =IFERROR(INDEX($A:$A,MATCH(I4026,$H:$H,0)),"")
A4027: 私立復興實驗高中 | B4027: [106]臺北市大安區敦化南路1段262 號 | C4027: 臺北市 | D4027: 大安區 | E4027: 高級中等學校 | F4027: 331304 | H4027: =IF(ISNUMBER(SEARCH($K$2,A4027)),MAX($H$1:H4026)+1,0) -> 0 | I4027: =ROWS($H$2:H4027) -> 4026 | J4027: =IFERROR(INDEX($A:$A,MATCH(I4027,$H:$H,0)),"")
A4028: 私立東方工商 | B4028: [106]臺北市大安區信義路四段186巷8號 | C4028: 臺北市 | D4028: 大安區 | E4028: 高級中等學校 | F4028: 331402 | H4028: =IF(ISNUMBER(SEARCH($K$2,A4028)),MAX($H$1:H4027)+1,0) -> 0 | I4028: =ROWS($H$2:H4028) -> 4027 | J4028: =IFERROR(INDEX($A:$A,MATCH(I4028,$H:$H,0)),"")
A4029: 私立喬治工商 | B4029: [106]臺北市大安區基隆路2段172號 | C4029: 臺北市 | D4029: 大安區 | E4029: 高級中等學校 | F4029: 331403 | H4029: =IF(ISNUMBER(SEARCH($K$2,A4029)),MAX($H$1:H4028)+1,0) -> 0 | I4029: =ROWS($H$2:H4029) -> 4028 | J4029: =IFERROR(INDEX($A:$A,MATCH(I4029,$H:$H,0)),"")
A4030: 私立開平餐飲 | B4030: [106]臺北市大安區復興南路2段148巷24號 | C4030: 臺北市 | D4030: 大安區 | E4030: 高級中等學校 | F4030: 331404 | H4030: =IF(ISNUMBER(SEARCH($K$2,A4030)),MAX($H$1:H4029)+1,0) -> 0 | I4030: =ROWS($H$2:H4030) -> 4029 | J4030: =IFERROR(INDEX($A:$A,MATCH(I4030,$H:$H,0)),"")
A4031: 市立和平高中 | B4031: [106]臺北市大安區芳和里臥龍街100號 | C4031: 臺北市 | D4031: 大安區 | E4031: 高級中等學校 | F4031: 333301 | H4031: =IF(ISNUMBER(SEARCH($K$2,A4031)),MAX($H$1:H4030)+1,0) -> 0 | I4031: =ROWS($H$2:H4031) -> 4030 | J4031: =IFERROR(INDEX($A:$A,MATCH(I4031,$H:$H,0)),"")
A4032: 市立芳和實中 | B4032: [106]臺北市大安區芳和里臥龍街170號 | C4032: 臺北市 | D4032: 大安區 | E4032: 高級中等學校 | F4032: 333304 | H4032: =IF(ISNUMBER(SEARCH($K$2,A4032)),MAX($H$1:H4031)+1,0) -> 0 | I4032: =ROWS($H$2:H4032) -> 4031 | J4032: =IFERROR(INDEX($A:$A,MATCH(I4032,$H:$H,0)),"")
A4033: 臺北市立大安高級工業職業學校 | B4033: [106]臺北市大安區龍圖里復興南路2段52號 | C4033: 臺北市 | D4033: 大安區 | E4033: 高級中等學校 | F4033: 333401 | H4033: =IF(ISNUMBER(SEARCH($K$2,A4033)),MAX($H$1:H4032)+1,0) -> 0 | I4033: =ROWS($H$2:H4033) -> 4032 | J4033: =IFERROR(INDEX($A:$A,MATCH(I4033,$H:$H,0)),"")
... A4040: 臺北市開南高中 | B4040: [100]臺北市中正區東門里濟南路1段6號 | C4040: 臺北市 | D4040: 中正區 | E4040: 高級中等學校 | F4040: 351402 | H4040: =IF(ISNUMBER(SEARCH($K$2,A4040)),MAX($H$1:H4039)+1,0) -> 0 | I4040: =ROWS($H$2:H4040) -> 4039 | J4040: =IFERROR(INDEX($A:$A,MATCH(I4040,$H:$H,0)),"")
A4041: 私立南華高中進修學校 | B4041: [100]臺北市中正區富水里汀州路3段58號 | C4041: 臺北市 | D4041: 中正區 | E4041: 高級中等學校 | F4041: 351B09 | H4041: =IF(ISNUMBER(SEARCH($K$2,A4041)),MAX($H$1:H4040)+1,0) -> 0 | I4041: =ROWS($H$2:H4041) -> 4040 | J4041: =IFERROR(INDEX($A:$A,MATCH(I4041,$H:$H,0)),"")
A4042: 市立建國中學 | B4042: [100]臺北市中正區龍光里南海路56號 | C4042: 臺北市 | D4042: 中正區 | E4042: 高級中等學校 | F4042: 353301 | H4042: =IF(ISNUMBER(SEARCH($K$2,A4042)),MAX($H$1:H4041)+1,0) -> 0 | I4042: =ROWS($H$2:H4042) -> 4041 | J4042: =IFERROR(INDEX($A:$A,MATCH(I4042,$H:$H,0)),"")
A4043: 市立成功中學 | B4043: [100]臺北市中正區幸福里濟南路1段71號 | C4043: 臺北市 | D4043: 中正區 | E4043: 高級中等學校 | F4043: 353302 | H4043: =IF(ISNUMBER(SEARCH($K$2,A4043)),MAX($H$1:H4042)+1,0) -> 0 | I4043: =ROWS($H$2:H4043) -> 4042 | J4043: =IFERROR(INDEX($A:$A,MATCH(I4043,$H:$H,0)),"")
A4044: 市立北一女中 | B4044: [100]臺北市中正區建國里重慶南路1段165號 | C4044: 臺北市 | D4044: 中正區 | E4044: 高級中等學校 | F4044: 353303 | H4044: =IF(ISNUMBER(SEARCH($K$2,A4044)),MAX($H$1:H4043)+1,0) -> 0 | I4044: =ROWS($H$2:H4044) -> 4043 | J4044: =IFERROR(INDEX($A:$A,MATCH(I4044,$H:$H,0)),"")
A4045: 私立文德女中 | B4045: [114]臺北市內湖區紫陽里成功路3段70號 | C4045: 臺北市 | D4045: 內湖區 | E4045: 高級中等學校 | F4045: 401301 | H4045: =IF(ISNUMBER(SEARCH($K$2,A4045)),MAX($H$1:H4044)+1,0) -> 0 | I4045: =ROWS($H$2:H4045) -> 4044 | J4045: =IFERROR(INDEX($A:$A,MATCH(I4045,$H:$H,0)),"")
A4046: 私立方濟中學 | B4046: [114]臺北市內湖區紫星里成功路三段61號 | C4046: 臺北市 | D4046: 內湖區 | E4046: 高級中等學校 | F4046: 401302 | H4046: =IF(ISNUMBER(SEARCH($K$2,A4046)),MAX($H$1:H4045)+1,0) -> 0 | I4046: =ROWS($H$2:H4046) -> 4045 | J4046: =IFERROR(INDEX($A:$A,MATCH(I4046,$H:$H,0)),"")
A4047: 私立達人女中 | B4047: [114]臺北市內湖區湖濱里內湖路2段314號 | C4047: 臺北市 | D4047: 內湖區 | E4047: 高級中等學校 | F4047: 401303 | H4047: =IF(ISNUMBER(SEARCH($K$2,A4047)),MAX($H$1:H4046)+1,0) -> 0 | I4047: =ROWS($H$2:H4047) -> 4046 | J4047: =IFERROR(INDEX($A:$A,MATCH(I4047,$H:$H,0)),"")
A4048: 市立內湖高中 | B4048: [114]臺北市內湖區紫陽里文德路218號 | C4048: 臺北市 | D4048: 內湖區 | E4048: 高級中等學校 | F4048: 403301 | H4048: =IF(ISNUMBER(SEARCH($K$2,A4048)),MAX($H$1:H4047)+1,0) -> 0 | I4048: =ROWS($H$2:H4048) -> 4047 | J4048: =IFERROR(INDEX($A:$A,MATCH(I4048,$H:$H,0)),"")
A4049: 市立麗山高中 | B4049: [114]臺北市內湖區環山路二段100號 | C4049: 臺北市 | D4049: 內湖區 | E4049: 高級中等學校 | F4049: 403302 | H4049: =IF(ISNUMBER(SEARCH($K$2,A4049)),MAX($H$1:H4048)+1,0) -> 0 | I4049: =ROWS($H$2:H4049) -> 4048 | J4049: =IFERROR(INDEX($A:$A,MATCH(I4049,$H:$H,0)),"")
A4050: 市立南湖高中 | B4050: [114]臺北市內湖區康寧路三段220號 | C4050: 臺北市 | D4050: 內湖區 | E4050: 高級中等學校 | F4050: 403303 | H4050: =IF(ISNUMBER(SEARCH($K$2,A4050)),MAX($H$1:H4049)+1,0) -> 0 | I4050: =ROWS($H$2:H4050) -> 4049 | J4050: =IFERROR(INDEX($A:$A,MATCH(I4050,$H:$H,0)),"")
A4051: 市立內湖高工 | B4051: [114]臺北市內湖區港墘里內湖路1段520號 | C4051: 臺北市 | D4051: 內湖區 | E4051: 高級中等學校 | F4051: 403401 | H4051: =IF(ISNUMBER(SEARCH($K$2,A4051)),MAX($H$1:H4050)+1,0) -> 0 | I4051: =ROWS($H$2:H4051) -> 4050 | J4051: =IFERROR(INDEX($A:$A,MATCH(I4051,$H:$H,0)),"")
A4052: 國立政大附中 | B4052: [116]臺北市文山區政大一街353號 | C4052: 臺北市 | D4052: 文山區 | E4052: 高級中等學校 | F4052: 380301 | H4052: =IF(ISNUMBER(SEARCH($K$2,A4052)),MAX($H$1:H4051)+1,0) -> 0 | I4052: =ROWS($H$2:H4052) -> 4051 | J4052: =IFERROR(INDEX($A:$A,MATCH(I4052,$H:$H,0)),"")
A4053: 私立東山高中 | B4053: [116]臺北市文山區老泉里老泉街26巷3號 | C4053: 臺北市 | D4053: 文山區 | E4053: 高級中等學校 | F4053: 381301 | H4053: =IF(ISNUMBER(SEARCH($K$2,A4053)),MAX($H$1:H4052)+1,0) -> 0 | I4053: =ROWS($H$2:H4053) -> 4052 | J4053: =IFERROR(INDEX($A:$A,MATCH(I4053,$H:$H,0)),"")
... A4287: 國立澎湖科技大學 | B4287: [880]澎湖縣馬公市六合路300號 | C4287: 澎湖縣 | D4287: 馬公市 | E4287: 大專校院 | F4287: 42 | H4287: =IF(ISNUMBER(SEARCH($K$2,A4287)),MAX($H$1:H4286)+1,0) -> 0 | I4287: =ROWS($H$2:H4287) -> 4286 | J4287: =IFERROR(INDEX($A:$A,MATCH(I4287,$H:$H,0)),"")
A4288: 唯心聖教學院 | B4288: [540]南投縣南投市文化路705巷667號 | C4288: 南投縣 | D4288: 南投市 | E4288: 宗教研修學院 | F4288: 1R09 | H4288: =IF(ISNUMBER(SEARCH($K$2,A4288)),MAX($H$1:H4287)+1,0) -> 0 | I4288: =ROWS($H$2:H4288) -> 4287 | J4288: =IFERROR(INDEX($A:$A,MATCH(I4288,$H:$H,0)),"")
A4289: 一貫道崇德學院 | B4289: [545]南投縣埔里鎮鯉魚路25-8號 | C4289: 南投縣 | D4289: 埔里鎮 | E4289: 宗教研修學院 | F4289: 1R06 | H4289: =IF(ISNUMBER(SEARCH($K$2,A4289)),MAX($H$1:H4288)+1,0) -> 0 | I4289: =ROWS($H$2:H4289) -> 4288 | J4289: =IFERROR(INDEX($A:$A,MATCH(I4289,$H:$H,0)),"")
A4290: 中華福音神學研究學院 | B4290: [334]桃園市八德區長安街53號 | C4290: 桃園市 | D4290: 八德區 | E4290: 宗教研修學院 | F4290: 1R08 | H4290: =IF(ISNUMBER(SEARCH($K$2,A4290)),MAX($H$1:H4289)+1,0) -> 0 | I4290: =ROWS($H$2:H4290) -> 4289 | J4290: =IFERROR(INDEX($A:$A,MATCH(I4290,$H:$H,0)),"")
A4291: 一貫道天皇學院 | B4291: [844]高雄市六龜區新寮里三民路81號 | C4291: 高雄市 | D4291: 六龜區 | E4291: 宗教研修學院 | F4291: 1R04 | H4291: =IF(ISNUMBER(SEARCH($K$2,A4291)),MAX($H$1:H4290)+1,0) -> 0 | I4291: =ROWS($H$2:H4291) -> 4290 | J4291: =IFERROR(INDEX($A:$A,MATCH(I4291,$H:$H,0)),"")
A4292: 臺北基督學院 | B4292: [251]新北市淡水區自強路51號 | C4292: 新北市 | D4292: 淡水區 | E4292: 宗教研修學院 | F4292: 1R03 | H4292: =IF(ISNUMBER(SEARCH($K$2,A4292)),MAX($H$1:H4291)+1,0) -> 0 | I4292: =ROWS($H$2:H4292) -> 4291 | J4292: =IFERROR(INDEX($A:$A,MATCH(I4292,$H:$H,0)),"")
A4293: 台灣神學研究學院 | B4293: [111]臺北市士林區仰德大道二段二巷20號 | C4293: 臺北市 | D4293: 士林區 | E4293: 宗教研修學院 | F4293: 1R05 | H4293: =IF(ISNUMBER(SEARCH($K$2,A4293)),MAX($H$1:H4292)+1,0) -> 0 | I4293: =ROWS($H$2:H4293) -> 4292 | J4293: =IFERROR(INDEX($A:$A,MATCH(I4293,$H:$H,0)),"")
A4294: 基督教台灣浸會神學院 | B4294: [110]臺北市信義區吳興街394巷1號 | C4294: 臺北市 | D4294: 信義區 | E4294: 宗教研修學院 | F4294: 1R02 | H4294: =IF(ISNUMBER(SEARCH($K$2,A4294)),MAX($H$1:H4293)+1,0) -> 0 | I4294: =ROWS($H$2:H4294) -> 4293 | J4294: =IFERROR(INDEX($A:$A,MATCH(I4294,$H:$H,0)),"")
A4295: 台灣基督長老教會南神神學院 | B4295: [701]臺南市東區東門路一段117號 | C4295: 臺南市 | D4295: 東區 | E4295: 宗教研修學院 | F4295: 1R07 | H4295: =IF(ISNUMBER(SEARCH($K$2,A4295)),MAX($H$1:H4294)+1,0) -> 0 | I4295: =ROWS($H$2:H4295) -> 4294 | J4295: =IFERROR(INDEX($A:$A,MATCH(I4295,$H:$H,0)),"")
A4296: 高雄市立空中大學 | B4296: [812]高雄市小港區大業北路436號 | C4296: 高雄市 | D4296: 小港區 | E4296: 空大及大專校院附設進修學校 | F4296: 3A01 | H4296: =IF(ISNUMBER(SEARCH($K$2,A4296)),MAX($H$1:H4295)+1,0) -> 0 | I4296: =ROWS($H$2:H4296) -> 4295 | J4296: =IFERROR(INDEX($A:$A,MATCH(I4296,$H:$H,0)),"")
A4297: 國立空中大學 | B4297: [247]新北市蘆洲區中正路172號 | C4297: 新北市 | D4297: 蘆洲區 | E4297: 空大及大專校院附設進修學校 | F4297: 0A01 | H4297: =IF(ISNUMBER(SEARCH($K$2,A4297)),MAX($H$1:H4296)+1,0) -> 0 | I4297: =ROWS($H$2:H4297) -> 4296 | J4297: =IFERROR(INDEX($A:$A,MATCH(I4297,$H:$H,0)),"")
A4298: 國立宜蘭特殊教育學校 | B4298: [268]宜蘭縣五結鄉國民中路22之20號 | C4298: 宜蘭縣 | D4298: 五結鄉 | E4298: 特殊教育學校 | F4298: 020F01 | H4298: =IF(ISNUMBER(SEARCH($K$2,A4298)),MAX($H$1:H4297)+1,0) -> 0 | I4298: =ROWS($H$2:H4298) -> 4297 | J4298: =IFERROR(INDEX($A:$A,MATCH(I4298,$H:$H,0)),"")
A4299: 國立花蓮特殊教育學校 | B4299: [973]花蓮縣吉安鄉宜昌村六鄰中山路二段2號 | C4299: 花蓮縣 | D4299: 吉安鄉 | E4299: 特殊教育學校 | F4299: 150F01 | H4299: =IF(ISNUMBER(SEARCH($K$2,A4299)),MAX($H$1:H4298)+1,0) -> 0 | I4299: =ROWS($H$2:H4299) -> 4298 | J4299: =IFERROR(INDEX($A:$A,MATCH(I4299,$H:$H,0)),"")
... A4325: 國立臺南大學附屬啟聰學校 | B4325: [712]臺南市新化區信義路52號 | C4325: 臺南市 | D4325: 新化區 | E4325: 特殊教育學校 | F4325: 110F01 | H4325: =IF(ISNUMBER(SEARCH($K$2,A4325)),MAX($H$1:H4324)+1,0) -> 0 | I4325: =ROWS($H$2:H4325) -> 4324 | J4325: =IFERROR(INDEX($A:$A,MATCH(I4325,$H:$H,0)),"")
A4326: 中國科技大學(新竹校區) | B4326: [303]新竹縣湖口鄉中山路三段530號 | C4326: 新竹市 | D4326: 湖口鄉 | E4326: 大專校院 | F4326: 1046 | H4326: =IF(ISNUMBER(SEARCH($K$2,A4326)),MAX($H$1:H4325)+1,0) -> 0 | I4326: =ROWS($H$2:H4326) -> 4325 | J4326: =IFERROR(INDEX($A:$A,MATCH(I4326,$H:$H,0)),"")
A4327: 長庚科技大學(嘉義分部) | B4327: [613]嘉義縣朴子市嘉朴路西段2號 | C4327: 嘉義縣 | D4327: 朴子市 | E4327: 大專校院 | F4327: 1070 | H4327: =IF(ISNUMBER(SEARCH($K$2,A4327)),MAX($H$1:H4326)+1,0) -> 0 | I4327: =ROWS($H$2:H4327) -> 4326
A4328: 耕莘健康管理專科學校(宜蘭校區) | B4328: [266]宜蘭縣三星鄉尚武村健富路二段407號 | C4328: 宜蘭縣 | D4328: 三星鄉 | E4328: 大專校院 | F4328: 1286 | H4328: =IF(ISNUMBER(SEARCH($K$2,A4328)),MAX($H$1:H4327)+1,0) -> 0 | I4328: =ROWS($H$2:H4328) -> 4327 | J4328: =IFERROR(INDEX($A:$A,MATCH(I4328,$H:$H,0)),"")
A4329: 國立臺北商業大學(桃園校區) | B4329: [324]桃園市平鎮區福龍路一段100號 | C4329: 桃園市 | D4329: 平鎮區 | E4329: 大專校院 | F4329: 51 | H4329: =IF(ISNUMBER(SEARCH($K$2,A4329)),MAX($H$1:H4328)+1,0) -> 0 | I4329: =ROWS($H$2:H4329) -> 4328 | J4329: =IFERROR(INDEX($A:$A,MATCH(I4329,$H:$H,0)),"")
A4330: 新北市原聲國際學院實驗教育機構 | B4330: [251]新北市淡水區自強路51號 | C4330: 新北市 | D4330: 淡水區 | E4330: 教育機構 | H4330: =IF(ISNUMBER(SEARCH($K$2,A4330)),MAX($H$1:H4329)+1,0) -> 0 | I4330: =ROWS($H$2:H4330) -> 4329 | J4330: =IFERROR(INDEX($A:$A,MATCH(I4330,$H:$H,0)),"")
